BEGIN:VCALENDAR
VERSION:2.0
PRODID:-//Triathlon Centre - ECPv6.15.17.1//NONSGML v1.0//EN
CALSCALE:GREGORIAN
METHOD:PUBLISH
X-ORIGINAL-URL:https://triathlon-centre.org
X-WR-CALDESC:Évènements pour Triathlon Centre
REFRESH-INTERVAL;VALUE=DURATION:PT1H
X-Robots-Tag:noindex
X-PUBLISHED-TTL:PT1H
BEGIN:VTIMEZONE
TZID:Europe/Paris
BEGIN:DAYLIGHT
TZOFFSETFROM:+0100
TZOFFSETTO:+0200
TZNAME:CEST
DTSTART:20240331T010000
END:DAYLIGHT
BEGIN:STANDARD
TZOFFSETFROM:+0200
TZOFFSETTO:+0100
TZNAME:CET
DTSTART:20241027T010000
END:STANDARD
BEGIN:DAYLIGHT
TZOFFSETFROM:+0100
TZOFFSETTO:+0200
TZNAME:CEST
DTSTART:20250330T010000
END:DAYLIGHT
BEGIN:STANDARD
TZOFFSETFROM:+0200
TZOFFSETTO:+0100
TZNAME:CET
DTSTART:20251026T010000
END:STANDARD
BEGIN:DAYLIGHT
TZOFFSETFROM:+0100
TZOFFSETTO:+0200
TZNAME:CEST
DTSTART:20260329T010000
END:DAYLIGHT
BEGIN:STANDARD
TZOFFSETFROM:+0200
TZOFFSETTO:+0100
TZNAME:CET
DTSTART:20261025T010000
END:STANDARD
END:VTIMEZONE
BEGIN:VEVENT
DTSTART;VALUE=DATE:20250118
DTEND;VALUE=DATE:20250119
DTSTAMP:20260419T235932
CREATED:20241202T110847Z
LAST-MODIFIED:20250122T095621Z
UID:5505-1737158400-1737244799@triathlon-centre.org
SUMMARY:Bike & Run Bol d'Air
DESCRIPTION:Le club de Saint Avertin Sport Triathlon 37\, organise la 15ème édition de son événement Bol d’Air. \nRendez-vous le samedi 18 janvier pour la première épreuve de Bike & Run\, qui lancera la saison sportive régionale 2025. \nCette épreuve sera support de la 1ère étape du Challenge Jeunes 2025 \nInscriptions sur : NJUKO \nInformations sur : boldair.sastriathlon37
URL:https://triathlon-centre.org/event/bike-run-bol-dair/
LOCATION:Saint Avertin\, Indre-et-Loire\, 37550\, France
CATEGORIES:Challenge Jeunes 2025,Événement 2025
ATTACH;FMTTYPE=image/png:https://triathlon-centre.org/wp-content/uploads/2024/12/Bike-Run-Bol-dAir-18-01-2025.png
ORGANIZER;CN="Saint Avertin Sports Triathlon 37":MAILTO:organisations@sastriathlon37.com
END:VEVENT
END:VCALENDAR