BEGIN:VCALENDAR
VERSION:2.0
PRODID:-//Triathlon Centre - ECPv6.15.17.1//NONSGML v1.0//EN
CALSCALE:GREGORIAN
METHOD:PUBLISH
X-WR-CALNAME:Triathlon Centre
X-ORIGINAL-URL:https://triathlon-centre.org
X-WR-CALDESC:Évènements pour Triathlon Centre
REFRESH-INTERVAL;VALUE=DURATION:PT1H
X-Robots-Tag:noindex
X-PUBLISHED-TTL:PT1H
BEGIN:VTIMEZONE
TZID:Europe/Paris
BEGIN:DAYLIGHT
TZOFFSETFROM:+0100
TZOFFSETTO:+0200
TZNAME:CEST
DTSTART:20230326T010000
END:DAYLIGHT
BEGIN:STANDARD
TZOFFSETFROM:+0200
TZOFFSETTO:+0100
TZNAME:CET
DTSTART:20231029T010000
END:STANDARD
BEGIN:DAYLIGHT
TZOFFSETFROM:+0100
TZOFFSETTO:+0200
TZNAME:CEST
DTSTART:20240331T010000
END:DAYLIGHT
BEGIN:STANDARD
TZOFFSETFROM:+0200
TZOFFSETTO:+0100
TZNAME:CET
DTSTART:20241027T010000
END:STANDARD
BEGIN:DAYLIGHT
TZOFFSETFROM:+0100
TZOFFSETTO:+0200
TZNAME:CEST
DTSTART:20250330T010000
END:DAYLIGHT
BEGIN:STANDARD
TZOFFSETFROM:+0200
TZOFFSETTO:+0100
TZNAME:CET
DTSTART:20251026T010000
END:STANDARD
END:VTIMEZONE
BEGIN:VEVENT
DTSTART;VALUE=DATE:20240204
DTEND;VALUE=DATE:20240205
DTSTAMP:20260420T202243
CREATED:20231205T093914Z
LAST-MODIFIED:20240205T095757Z
UID:4175-1707004800-1707091199@triathlon-centre.org
SUMMARY:Bike & Run d'Orléans
DESCRIPTION:
URL:https://triathlon-centre.org/event/bike-run-dorleans/
LOCATION:Île Charlemagne\, Loiret\, France
CATEGORIES:Challenge Jeunes 2024,Evénement 2024
ATTACH;FMTTYPE=image/jpeg:https://triathlon-centre.org/wp-content/uploads/2023/12/Bike-Run-Orleans-04-02-2024.jpg
ORGANIZER;CN="Orl%C3%A9ans ASFAS Triathlon":MAILTO:o.asfastriathlon.concurrents@gmail.com
END:VEVENT
BEGIN:VEVENT
DTSTART;VALUE=DATE:20240211
DTEND;VALUE=DATE:20240212
DTSTAMP:20260420T202243
CREATED:20231205T102027Z
LAST-MODIFIED:20240212T090046Z
UID:4181-1707609600-1707695999@triathlon-centre.org
SUMMARY:Class Triathlon de Châteauroux
DESCRIPTION:
URL:https://triathlon-centre.org/event/class-triathlon-de-chateauroux/
LOCATION:Châteauroux\, Indre\, 36000\, France
CATEGORIES:Challenge Jeunes 2024,Evénement 2024
ATTACH;FMTTYPE=image/jpeg:https://triathlon-centre.org/wp-content/uploads/2023/12/Class-Tri-Chateauroux-11.02.2024_page-0001-scaled.jpg
END:VEVENT
END:VCALENDAR