BEGIN:VCALENDAR
VERSION:2.0
PRODID:-//Triathlon Centre - ECPv6.15.17.1//NONSGML v1.0//EN
CALSCALE:GREGORIAN
METHOD:PUBLISH
X-WR-CALNAME:Triathlon Centre
X-ORIGINAL-URL:https://triathlon-centre.org
X-WR-CALDESC:Évènements pour Triathlon Centre
REFRESH-INTERVAL;VALUE=DURATION:PT1H
X-Robots-Tag:noindex
X-PUBLISHED-TTL:PT1H
BEGIN:VTIMEZONE
TZID:Europe/Paris
BEGIN:DAYLIGHT
TZOFFSETFROM:+0100
TZOFFSETTO:+0200
TZNAME:CEST
DTSTART:20230326T010000
END:DAYLIGHT
BEGIN:STANDARD
TZOFFSETFROM:+0200
TZOFFSETTO:+0100
TZNAME:CET
DTSTART:20231029T010000
END:STANDARD
BEGIN:DAYLIGHT
TZOFFSETFROM:+0100
TZOFFSETTO:+0200
TZNAME:CEST
DTSTART:20240331T010000
END:DAYLIGHT
BEGIN:STANDARD
TZOFFSETFROM:+0200
TZOFFSETTO:+0100
TZNAME:CET
DTSTART:20241027T010000
END:STANDARD
BEGIN:DAYLIGHT
TZOFFSETFROM:+0100
TZOFFSETTO:+0200
TZNAME:CEST
DTSTART:20250330T010000
END:DAYLIGHT
BEGIN:STANDARD
TZOFFSETFROM:+0200
TZOFFSETTO:+0100
TZNAME:CET
DTSTART:20251026T010000
END:STANDARD
END:VTIMEZONE
BEGIN:VEVENT
DTSTART;VALUE=DATE:20240407
DTEND;VALUE=DATE:20240408
DTSTAMP:20260420T171131
CREATED:20240215T132655Z
LAST-MODIFIED:20240405T075512Z
UID:4546-1712448000-1712534399@triathlon-centre.org
SUMMARY:Bike & Run Saché
DESCRIPTION:
URL:https://triathlon-centre.org/event/bike-run-sache/
LOCATION:Saché\, Indre-et-Loire\, France
CATEGORIES:Evénement 2024
ATTACH;FMTTYPE=image/jpeg:https://triathlon-centre.org/wp-content/uploads/2024/02/Bike-Run-Sache-04-04-2024.jpg
ORGANIZER;CN="Association Sach%C3%A9 Bouger":MAILTO:assosachebouger@gmail.com
END:VEVENT
BEGIN:VEVENT
DTSTART;VALUE=DATE:20240413
DTEND;VALUE=DATE:20240414
DTSTAMP:20260420T171131
CREATED:20231205T124226Z
LAST-MODIFIED:20240415T100712Z
UID:4190-1712966400-1713052799@triathlon-centre.org
SUMMARY:4ème Class Tri de Romorantin
DESCRIPTION:La 4ème édition du Class Tri Adultes (accessibles aux catégories séniors et vétérans) sera organisé le Samedi 13 avril 2024 à Romorantin (41). \nPour vous inscrire : \n\nTélécharger le fichier d’inscription : Fichier inscription Class Tri Romorantin\nRemplissez le (en individuel ou par club)\nLe renvoyer à acrtriathlon@gmail.com avant le dimanche 7 avril
URL:https://triathlon-centre.org/event/4eme-class-tri-de-romorantin/
LOCATION:Romorantin-Lanthenay\, Loir-et-Cher\, 41200
CATEGORIES:Evénement 2024
ATTACH;FMTTYPE=image/jpeg:https://triathlon-centre.org/wp-content/uploads/2023/12/Class-Tri-Romorantin-13-04-2024-scaled.jpg
END:VEVENT
BEGIN:VEVENT
DTSTART;VALUE=DATE:20240413
DTEND;VALUE=DATE:20240414
DTSTAMP:20260420T171131
CREATED:20240129T134241Z
LAST-MODIFIED:20240415T100738Z
UID:4481-1712966400-1713052799@triathlon-centre.org
SUMMARY:Run & Bike Night Sancoinnais
DESCRIPTION:Venez participer à une toute nouvelle épreuve dans la région : le Run & Bike Night Sancoinnais qui aura lieu le Samedi 13 avril 2024 à Sancoins (Cher\, 18). \nCette épreuve de Run & Bike a la particularité (comme son nom l’indique) de se dérouler en nocturne. 🌙 \nDate limite des inscriptions fixée au 12/04/2024. \nPour vous inscrire : cliquez-ici
URL:https://triathlon-centre.org/event/run-bike-night-sancoinnais/
LOCATION:Sancoins\, Cher\, 18600
CATEGORIES:Evénement 2024
ATTACH;FMTTYPE=image/jpeg:https://triathlon-centre.org/wp-content/uploads/2024/01/Run-Bike-Night-Sancoinnais-13-04-2024_.jpeg
END:VEVENT
BEGIN:VEVENT
DTSTART;VALUE=DATE:20240414
DTEND;VALUE=DATE:20240415
DTSTAMP:20260420T171131
CREATED:20231205T125902Z
LAST-MODIFIED:20240415T100804Z
UID:4194-1713052800-1713139199@triathlon-centre.org
SUMMARY:Duathlon de St Cyr sur Loire
DESCRIPTION:
URL:https://triathlon-centre.org/event/duathlon-de-st-cyr-sur-loire/
LOCATION:Saint-Cyr-sur-Loire\, Indre-et-Loire\, 37540
CATEGORIES:Challenge Jeunes 2024,Evénement 2024
ATTACH;FMTTYPE=image/png:https://triathlon-centre.org/wp-content/uploads/2023/12/Duathlon-St-Cyr-sur-Loire-14-04-2024.png
END:VEVENT
BEGIN:VEVENT
DTSTART;VALUE=DATE:20240428
DTEND;VALUE=DATE:20240429
DTSTAMP:20260420T171131
CREATED:20231205T130623Z
LAST-MODIFIED:20240429T062701Z
UID:4198-1714262400-1714348799@triathlon-centre.org
SUMMARY:Triathlon de l'AME
DESCRIPTION:
URL:https://triathlon-centre.org/event/triathlon-de-lame/
LOCATION:Cepoy\, Loiret\, 45061
CATEGORIES:Evénement 2024
ATTACH;FMTTYPE=image/jpeg:https://triathlon-centre.org/wp-content/uploads/2023/12/Triathlon-de-lAME-28-04-2024.jpg
END:VEVENT
END:VCALENDAR