BEGIN:VCALENDAR
VERSION:2.0
PRODID:-//Triathlon Centre - ECPv6.15.17.1//NONSGML v1.0//EN
CALSCALE:GREGORIAN
METHOD:PUBLISH
X-ORIGINAL-URL:https://triathlon-centre.org
X-WR-CALDESC:Évènements pour Triathlon Centre
REFRESH-INTERVAL;VALUE=DURATION:PT1H
X-Robots-Tag:noindex
X-PUBLISHED-TTL:PT1H
BEGIN:VTIMEZONE
TZID:Europe/Paris
BEGIN:DAYLIGHT
TZOFFSETFROM:+0100
TZOFFSETTO:+0200
TZNAME:CEST
DTSTART:20230326T010000
END:DAYLIGHT
BEGIN:STANDARD
TZOFFSETFROM:+0200
TZOFFSETTO:+0100
TZNAME:CET
DTSTART:20231029T010000
END:STANDARD
BEGIN:DAYLIGHT
TZOFFSETFROM:+0100
TZOFFSETTO:+0200
TZNAME:CEST
DTSTART:20240331T010000
END:DAYLIGHT
BEGIN:STANDARD
TZOFFSETFROM:+0200
TZOFFSETTO:+0100
TZNAME:CET
DTSTART:20241027T010000
END:STANDARD
BEGIN:DAYLIGHT
TZOFFSETFROM:+0100
TZOFFSETTO:+0200
TZNAME:CEST
DTSTART:20250330T010000
END:DAYLIGHT
BEGIN:STANDARD
TZOFFSETFROM:+0200
TZOFFSETTO:+0100
TZNAME:CET
DTSTART:20251026T010000
END:STANDARD
END:VTIMEZONE
BEGIN:VEVENT
DTSTART;VALUE=DATE:20241006
DTEND;VALUE=DATE:20241007
DTSTAMP:20260420T082827
CREATED:20231206T124013Z
LAST-MODIFIED:20241007T081417Z
UID:4267-1728172800-1728259199@triathlon-centre.org
SUMMARY:Triathlon Le Grand Meaulnes
DESCRIPTION:
URL:https://triathlon-centre.org/event/triathlon-le-grand-meaulnes/
LOCATION:La Chapelle d’Angillon\, Cher\, 18380\, France
CATEGORIES:Evénement 2024
ATTACH;FMTTYPE=image/jpeg:https://triathlon-centre.org/wp-content/uploads/2023/12/Triathlon-Le-Grand-Meaulnes-06-10-2024.jpg
ORGANIZER;CN="Bourges Triathlon":MAILTO:bourgestri@gmail.com
END:VEVENT
END:VCALENDAR