BEGIN:VCALENDAR
VERSION:2.0
PRODID:-//Triathlon Centre - ECPv6.15.17.1//NONSGML v1.0//EN
CALSCALE:GREGORIAN
METHOD:PUBLISH
X-ORIGINAL-URL:https://triathlon-centre.org
X-WR-CALDESC:Évènements pour Triathlon Centre
REFRESH-INTERVAL;VALUE=DURATION:PT1H
X-Robots-Tag:noindex
X-PUBLISHED-TTL:PT1H
BEGIN:VTIMEZONE
TZID:Europe/Paris
BEGIN:DAYLIGHT
TZOFFSETFROM:+0100
TZOFFSETTO:+0200
TZNAME:CEST
DTSTART:20230326T010000
END:DAYLIGHT
BEGIN:STANDARD
TZOFFSETFROM:+0200
TZOFFSETTO:+0100
TZNAME:CET
DTSTART:20231029T010000
END:STANDARD
BEGIN:DAYLIGHT
TZOFFSETFROM:+0100
TZOFFSETTO:+0200
TZNAME:CEST
DTSTART:20240331T010000
END:DAYLIGHT
BEGIN:STANDARD
TZOFFSETFROM:+0200
TZOFFSETTO:+0100
TZNAME:CET
DTSTART:20241027T010000
END:STANDARD
BEGIN:DAYLIGHT
TZOFFSETFROM:+0100
TZOFFSETTO:+0200
TZNAME:CEST
DTSTART:20250330T010000
END:DAYLIGHT
BEGIN:STANDARD
TZOFFSETFROM:+0200
TZOFFSETTO:+0100
TZNAME:CET
DTSTART:20251026T010000
END:STANDARD
END:VTIMEZONE
BEGIN:VEVENT
DTSTART;VALUE=DATE:20240518
DTEND;VALUE=DATE:20240520
DTSTAMP:20260420T172251
CREATED:20231205T132803Z
LAST-MODIFIED:20240521T132606Z
UID:4213-1715990400-1716163199@triathlon-centre.org
SUMMARY:Triathlon de l'Île Charlemagne
DESCRIPTION:
URL:https://triathlon-centre.org/event/triathlon-de-lile-charlemagne/
LOCATION:Île Charlemagne\, Loiret\, France
CATEGORIES:Evénement 2024
ATTACH;FMTTYPE=image/jpeg:https://triathlon-centre.org/wp-content/uploads/2023/12/Triathlon-de-lile-charlemagne-18-05-2024.jpg
ORGANIZER;CN="Orl%C3%A9ans ASFAS Triathlon":MAILTO:o.asfastriathlon.concurrents@gmail.com
END:VEVENT
END:VCALENDAR