BEGIN:VCALENDAR
VERSION:2.0
PRODID:-//Triathlon Centre - ECPv6.15.17.1//NONSGML v1.0//EN
CALSCALE:GREGORIAN
METHOD:PUBLISH
X-ORIGINAL-URL:https://triathlon-centre.org
X-WR-CALDESC:Évènements pour Triathlon Centre
REFRESH-INTERVAL;VALUE=DURATION:PT1H
X-Robots-Tag:noindex
X-PUBLISHED-TTL:PT1H
BEGIN:VTIMEZONE
TZID:Europe/Paris
BEGIN:DAYLIGHT
TZOFFSETFROM:+0100
TZOFFSETTO:+0200
TZNAME:CEST
DTSTART:20230326T010000
END:DAYLIGHT
BEGIN:STANDARD
TZOFFSETFROM:+0200
TZOFFSETTO:+0100
TZNAME:CET
DTSTART:20231029T010000
END:STANDARD
BEGIN:DAYLIGHT
TZOFFSETFROM:+0100
TZOFFSETTO:+0200
TZNAME:CEST
DTSTART:20240331T010000
END:DAYLIGHT
BEGIN:STANDARD
TZOFFSETFROM:+0200
TZOFFSETTO:+0100
TZNAME:CET
DTSTART:20241027T010000
END:STANDARD
BEGIN:DAYLIGHT
TZOFFSETFROM:+0100
TZOFFSETTO:+0200
TZNAME:CEST
DTSTART:20250330T010000
END:DAYLIGHT
BEGIN:STANDARD
TZOFFSETFROM:+0200
TZOFFSETTO:+0100
TZNAME:CET
DTSTART:20251026T010000
END:STANDARD
END:VTIMEZONE
BEGIN:VEVENT
DTSTART;VALUE=DATE:20240525
DTEND;VALUE=DATE:20240527
DTSTAMP:20260420T172250
CREATED:20231205T150729Z
LAST-MODIFIED:20240527T065238Z
UID:4219-1716595200-1716767999@triathlon-centre.org
SUMMARY:Triathlon des Coteaux du Vendômois
DESCRIPTION:Pour cette 28ème édition du Triathlon des Coteaux du Vendômois\, le club de l’US Vendôme Triathlon vous propose plusieurs formats de course tout au long du week-end : \n\nLe Triathlon Jeunes\nLe Triathlon XS (en individuel ou en duo)\nLe Triathlon S\nLe Triathlon M\nLe Triathlon L\n\nInscriptions ouvertes jusqu’au 16/05/2024
URL:https://triathlon-centre.org/event/triathlon-des-coteaux-du-vendomois-2/
LOCATION:Villiers-sur-Loir\, Plan d'eau\, Villiers-sur-Loire\, 41100\, France
CATEGORIES:Challenge Jeunes 2024,Evénement 2024
ATTACH;FMTTYPE=image/png:https://triathlon-centre.org/wp-content/uploads/2023/12/Triathlon-coteaux-vendomois-25-05-2024.png
ORGANIZER;CN="Vend%C3%B4me Triathlon":MAILTO:triathlondevendome@gmail.com
END:VEVENT
END:VCALENDAR