BEGIN:VCALENDAR
VERSION:2.0
PRODID:-//Triathlon Centre - ECPv6.15.17.1//NONSGML v1.0//EN
CALSCALE:GREGORIAN
METHOD:PUBLISH
X-ORIGINAL-URL:https://triathlon-centre.org
X-WR-CALDESC:Évènements pour Triathlon Centre
REFRESH-INTERVAL;VALUE=DURATION:PT1H
X-Robots-Tag:noindex
X-PUBLISHED-TTL:PT1H
BEGIN:VTIMEZONE
TZID:Europe/Paris
BEGIN:DAYLIGHT
TZOFFSETFROM:+0100
TZOFFSETTO:+0200
TZNAME:CEST
DTSTART:20230326T010000
END:DAYLIGHT
BEGIN:STANDARD
TZOFFSETFROM:+0200
TZOFFSETTO:+0100
TZNAME:CET
DTSTART:20231029T010000
END:STANDARD
BEGIN:DAYLIGHT
TZOFFSETFROM:+0100
TZOFFSETTO:+0200
TZNAME:CEST
DTSTART:20240331T010000
END:DAYLIGHT
BEGIN:STANDARD
TZOFFSETFROM:+0200
TZOFFSETTO:+0100
TZNAME:CET
DTSTART:20241027T010000
END:STANDARD
BEGIN:DAYLIGHT
TZOFFSETFROM:+0100
TZOFFSETTO:+0200
TZNAME:CEST
DTSTART:20250330T010000
END:DAYLIGHT
BEGIN:STANDARD
TZOFFSETFROM:+0200
TZOFFSETTO:+0100
TZNAME:CET
DTSTART:20251026T010000
END:STANDARD
END:VTIMEZONE
BEGIN:VEVENT
DTSTART;VALUE=DATE:20240609
DTEND;VALUE=DATE:20240610
DTSTAMP:20260420T155223
CREATED:20231206T094218Z
LAST-MODIFIED:20240611T130121Z
UID:4225-1717891200-1717977599@triathlon-centre.org
SUMMARY:TOURS'NMAN
DESCRIPTION:Le TOURS’NMAN fait son grand retour le 9 juin 2024 pour une 5ème édition ! \n  \nAu programme cette année : \n\nCourse distance M (1\,5km natation – 45km vélo – 10\,5km course à pied)\nCourse distance L (1\,9km natation – 90km vélo – 21\,1km course à pied)\nCourse Swim Bike\, distance L (1\,9km natation – 90km vélo)\n\n  \nPour info\, le TOURS’NMAN est à la recherche de bénévoles pour cette nouvelle édition ! Comme vous le savez\, les bénévoles sont au cœur de l’événement\, et sans eux rien ne serait possible ! Si vous êtes intéressés\, le TOURS’NMAn vous donne rendez-vous le 16 décembre pour l’ouverture des inscriptions sur Vorg.fr. \n  \nLes inscriptions sont ouvertes 🎉 Rendez-vous dès maintenant sur clickandrun.net pour réserver votre dossard ! \n  \nPour plus d’informations\, rendez-vous sur : toursnman.com \n  \n  \n 
URL:https://triathlon-centre.org/event/toursnman-2/
LOCATION:Tours\, Parc des expositions\, Indre-et-Loire\, 37000\, France
CATEGORIES:Evénement 2024
ATTACH;FMTTYPE=image/jpeg:https://triathlon-centre.org/wp-content/uploads/2023/12/TOURSNMAN-09-06-2024-1.jpg
ORGANIZER;CN="Comit%C3%A9 D%C3%A9partemental de Triathlon d'Indre et Loire":MAILTO:organisation@toursnman.com
END:VEVENT
END:VCALENDAR