BEGIN:VCALENDAR
VERSION:2.0
PRODID:-//Triathlon Centre - ECPv6.15.17.1//NONSGML v1.0//EN
CALSCALE:GREGORIAN
METHOD:PUBLISH
X-ORIGINAL-URL:https://triathlon-centre.org
X-WR-CALDESC:Évènements pour Triathlon Centre
REFRESH-INTERVAL;VALUE=DURATION:PT1H
X-Robots-Tag:noindex
X-PUBLISHED-TTL:PT1H
BEGIN:VTIMEZONE
TZID:Europe/Paris
BEGIN:DAYLIGHT
TZOFFSETFROM:+0100
TZOFFSETTO:+0200
TZNAME:CEST
DTSTART:20230326T010000
END:DAYLIGHT
BEGIN:STANDARD
TZOFFSETFROM:+0200
TZOFFSETTO:+0100
TZNAME:CET
DTSTART:20231029T010000
END:STANDARD
BEGIN:DAYLIGHT
TZOFFSETFROM:+0100
TZOFFSETTO:+0200
TZNAME:CEST
DTSTART:20240331T010000
END:DAYLIGHT
BEGIN:STANDARD
TZOFFSETFROM:+0200
TZOFFSETTO:+0100
TZNAME:CET
DTSTART:20241027T010000
END:STANDARD
BEGIN:DAYLIGHT
TZOFFSETFROM:+0100
TZOFFSETTO:+0200
TZNAME:CEST
DTSTART:20250330T010000
END:DAYLIGHT
BEGIN:STANDARD
TZOFFSETFROM:+0200
TZOFFSETTO:+0100
TZNAME:CET
DTSTART:20251026T010000
END:STANDARD
END:VTIMEZONE
BEGIN:VEVENT
DTSTART;VALUE=DATE:20240623
DTEND;VALUE=DATE:20240624
DTSTAMP:20260420T155101
CREATED:20240129T134505Z
LAST-MODIFIED:20240626T104225Z
UID:4485-1719100800-1719187199@triathlon-centre.org
SUMMARY:Raid Nature Sancoinnais
DESCRIPTION:Organisation du tout premier Raid Nature de la Région\, organisé par le Tri Trail Run Bike Raid Sancoinnais à Sancoins (Cher\, 18).  \nCe Raid Nature qui aura lieu le Dimanche 23 juin\, sera composé de : \n\n1km de canoë\n11km de VTT\n7km de CAP\n\nPour plus d’infos et pour vous inscrire : cliquez ici \nFin des inscriptions le 22 juin.
URL:https://triathlon-centre.org/event/raid-nature-sancoinnais/
LOCATION:Sancoins\, Cher\, 18600
CATEGORIES:Evénement 2024
ATTACH;FMTTYPE=image/png:https://triathlon-centre.org/wp-content/uploads/2024/01/RAID-NATURE-SANCOINS2024-DEF-1.png
END:VEVENT
END:VCALENDAR