BEGIN:VCALENDAR
VERSION:2.0
PRODID:-//Triathlon Centre - ECPv6.15.17.1//NONSGML v1.0//EN
CALSCALE:GREGORIAN
METHOD:PUBLISH
X-WR-CALNAME:Triathlon Centre
X-ORIGINAL-URL:https://triathlon-centre.org
X-WR-CALDESC:Évènements pour Triathlon Centre
REFRESH-INTERVAL;VALUE=DURATION:PT1H
X-Robots-Tag:noindex
X-PUBLISHED-TTL:PT1H
BEGIN:VTIMEZONE
TZID:Europe/Paris
BEGIN:DAYLIGHT
TZOFFSETFROM:+0100
TZOFFSETTO:+0200
TZNAME:CEST
DTSTART:20230326T010000
END:DAYLIGHT
BEGIN:STANDARD
TZOFFSETFROM:+0200
TZOFFSETTO:+0100
TZNAME:CET
DTSTART:20231029T010000
END:STANDARD
BEGIN:DAYLIGHT
TZOFFSETFROM:+0100
TZOFFSETTO:+0200
TZNAME:CEST
DTSTART:20240331T010000
END:DAYLIGHT
BEGIN:STANDARD
TZOFFSETFROM:+0200
TZOFFSETTO:+0100
TZNAME:CET
DTSTART:20241027T010000
END:STANDARD
BEGIN:DAYLIGHT
TZOFFSETFROM:+0100
TZOFFSETTO:+0200
TZNAME:CEST
DTSTART:20250330T010000
END:DAYLIGHT
BEGIN:STANDARD
TZOFFSETFROM:+0200
TZOFFSETTO:+0100
TZNAME:CET
DTSTART:20251026T010000
END:STANDARD
END:VTIMEZONE
BEGIN:VEVENT
DTSTART;VALUE=DATE:20240630
DTEND;VALUE=DATE:20240701
DTSTAMP:20260420T154559
CREATED:20231206T105739Z
LAST-MODIFIED:20240126T134620Z
UID:4249-1719705600-1719791999@triathlon-centre.org
SUMMARY:Triathlon de l'étang du puits
DESCRIPTION:Le club de l’AS Gien Triathlon organise la 3ème édition de son Triathlon de l’Etang du puits le Dimanche 30 juin 2024 ! \n  \nAu programme de ce dimanche\, 2 formats de course vous seront proposés : \n\nA 10h00 : course S (750m – 23km – 5km) en individuel et relais\nA 14h00 : course M (1500m – 43km – 10km) en individuel et relais\n\n  \nInscriptions sur protiming jusqu’au 23 juin 2023.
URL:https://triathlon-centre.org/event/triathlon-de-letang-du-puits-2/
LOCATION:Argent-sur-Sauldre\, Cher\, 18410\, France
CATEGORIES:Evénement 2024
ATTACH;FMTTYPE=image/jpeg:https://triathlon-centre.org/wp-content/uploads/2023/12/Triathlon-etang-du-puits-30-06-2024.jpg
ORGANIZER;CN="AS Gien Triathlon":MAILTO:triathlonetangdupuits@gmail.com
END:VEVENT
BEGIN:VEVENT
DTSTART;VALUE=DATE:20240630
DTEND;VALUE=DATE:20240701
DTSTAMP:20260420T154559
CREATED:20231206T110000Z
LAST-MODIFIED:20240524T124750Z
UID:4251-1719705600-1719791999@triathlon-centre.org
SUMMARY:Triathlon de St Georges
DESCRIPTION:
URL:https://triathlon-centre.org/event/triathlon-de-st-georges/
LOCATION:Saint-Georges-sur-Eure\, Eure-et-Loir\, 28190\, France
CATEGORIES:Challenge Jeunes 2024,Evénement 2024
ATTACH;FMTTYPE=image/png:https://triathlon-centre.org/wp-content/uploads/2023/12/Triathlon-St-George-sur-Eure-30-06-2024-1.png
ORGANIZER;CN="Chartres M%C3%A9tropole Triathlon":MAILTO:chartresmtriathlon@gmail.com
END:VEVENT
END:VCALENDAR