BEGIN:VCALENDAR
VERSION:2.0
PRODID:-//Triathlon Centre - ECPv6.15.17.1//NONSGML v1.0//EN
CALSCALE:GREGORIAN
METHOD:PUBLISH
X-ORIGINAL-URL:https://triathlon-centre.org
X-WR-CALDESC:Évènements pour Triathlon Centre
REFRESH-INTERVAL;VALUE=DURATION:PT1H
X-Robots-Tag:noindex
X-PUBLISHED-TTL:PT1H
BEGIN:VTIMEZONE
TZID:Europe/Paris
BEGIN:DAYLIGHT
TZOFFSETFROM:+0100
TZOFFSETTO:+0200
TZNAME:CEST
DTSTART:20230326T010000
END:DAYLIGHT
BEGIN:STANDARD
TZOFFSETFROM:+0200
TZOFFSETTO:+0100
TZNAME:CET
DTSTART:20231029T010000
END:STANDARD
BEGIN:DAYLIGHT
TZOFFSETFROM:+0100
TZOFFSETTO:+0200
TZNAME:CEST
DTSTART:20240331T010000
END:DAYLIGHT
BEGIN:STANDARD
TZOFFSETFROM:+0200
TZOFFSETTO:+0100
TZNAME:CET
DTSTART:20241027T010000
END:STANDARD
BEGIN:DAYLIGHT
TZOFFSETFROM:+0100
TZOFFSETTO:+0200
TZNAME:CEST
DTSTART:20250330T010000
END:DAYLIGHT
BEGIN:STANDARD
TZOFFSETFROM:+0200
TZOFFSETTO:+0100
TZNAME:CET
DTSTART:20251026T010000
END:STANDARD
END:VTIMEZONE
BEGIN:VEVENT
DTSTART;VALUE=DATE:20240922
DTEND;VALUE=DATE:20240923
DTSTAMP:20260420T113429
CREATED:20231206T112713Z
LAST-MODIFIED:20240923T135102Z
UID:4259-1726963200-1727049599@triathlon-centre.org
SUMMARY:Swim Run d'Orléans
DESCRIPTION:
URL:https://triathlon-centre.org/event/swim-run-dorleans/
LOCATION:Île Charlemagne\, Loiret\, France
CATEGORIES:Evénement 2024
ATTACH;FMTTYPE=image/jpeg:https://triathlon-centre.org/wp-content/uploads/2023/12/SwimRun-Orleans-22-09-2024.jpg
END:VEVENT
BEGIN:VEVENT
DTSTART;VALUE=DATE:20240922
DTEND;VALUE=DATE:20240923
DTSTAMP:20260420T113429
CREATED:20231206T123235Z
LAST-MODIFIED:20240923T135120Z
UID:4263-1726963200-1727049599@triathlon-centre.org
SUMMARY:Triathlon de l'Odyssée
DESCRIPTION:
URL:https://triathlon-centre.org/event/triathlon-de-lodyssee/
LOCATION:Chartres\, Eure-et-Loir\, 28000
CATEGORIES:Challenge Jeunes 2024,Evénement 2024
ATTACH;FMTTYPE=image/jpeg:https://triathlon-centre.org/wp-content/uploads/2023/12/Triathlon-de-lOdyssee-22-09-2024.jpg
ORGANIZER;CN="Chartres M%C3%A9tropole Triathlon":MAILTO:chartresmtriathlon@gmail.com
END:VEVENT
END:VCALENDAR