BEGIN:VCALENDAR
VERSION:2.0
PRODID:-//Triathlon Centre - ECPv6.15.17.1//NONSGML v1.0//EN
CALSCALE:GREGORIAN
METHOD:PUBLISH
X-ORIGINAL-URL:https://triathlon-centre.org
X-WR-CALDESC:Évènements pour Triathlon Centre
REFRESH-INTERVAL;VALUE=DURATION:PT1H
X-Robots-Tag:noindex
X-PUBLISHED-TTL:PT1H
BEGIN:VTIMEZONE
TZID:Europe/Paris
BEGIN:DAYLIGHT
TZOFFSETFROM:+0100
TZOFFSETTO:+0200
TZNAME:CEST
DTSTART:20240331T010000
END:DAYLIGHT
BEGIN:STANDARD
TZOFFSETFROM:+0200
TZOFFSETTO:+0100
TZNAME:CET
DTSTART:20241027T010000
END:STANDARD
BEGIN:DAYLIGHT
TZOFFSETFROM:+0100
TZOFFSETTO:+0200
TZNAME:CEST
DTSTART:20250330T010000
END:DAYLIGHT
BEGIN:STANDARD
TZOFFSETFROM:+0200
TZOFFSETTO:+0100
TZNAME:CET
DTSTART:20251026T010000
END:STANDARD
BEGIN:DAYLIGHT
TZOFFSETFROM:+0100
TZOFFSETTO:+0200
TZNAME:CEST
DTSTART:20260329T010000
END:DAYLIGHT
BEGIN:STANDARD
TZOFFSETFROM:+0200
TZOFFSETTO:+0100
TZNAME:CET
DTSTART:20261025T010000
END:STANDARD
END:VTIMEZONE
BEGIN:VEVENT
DTSTART;VALUE=DATE:20250302
DTEND;VALUE=DATE:20250303
DTSTAMP:20260421T214323
CREATED:20241202T112339Z
LAST-MODIFIED:20250306T124414Z
UID:5513-1740873600-1740959999@triathlon-centre.org
SUMMARY:Duathlon de St-Cyr-sur-Loire
DESCRIPTION:Nous vous donnons rendez-vous le dimanche 2 mars à St-Cyr-sur-Loire pour participer au Duathlon organisé par le club RSSC Triathlon. \nCet événement sera support : \n\nDu Championnat Régional de Duathlon (jeunes et adultes)\nDe la 3ème étape du Challenge Jeunes 2025\nDu sélectif D3 Duathlon régional\n\nInformations : rssctriathlon.fr \nInscriptions : timepulse.fr \nInscriptions jeunes pour la 3ème étape du Challenge Jeunes : télécharger le tableau inscription club \n 
URL:https://triathlon-centre.org/event/duathlon-de-st-cyr-sur-loire-2/
LOCATION:Saint-Cyr-sur-Loire\, Indre-et-Loire\, 37540
CATEGORIES:Challenge Jeunes 2025,Événement 2025
ATTACH;FMTTYPE=image/png:https://triathlon-centre.org/wp-content/uploads/2024/12/Duathlon-St-Cyr-sur-Loire-02-03-2025.png
END:VEVENT
BEGIN:VEVENT
DTSTART;VALUE=DATE:20250315
DTEND;VALUE=DATE:20250316
DTSTAMP:20260421T214323
CREATED:20250110T135355Z
LAST-MODIFIED:20250110T135411Z
UID:5650-1741996800-1742083199@triathlon-centre.org
SUMMARY:Bike & Run du Golf
DESCRIPTION:
URL:https://triathlon-centre.org/event/bike-run-du-golf/
LOCATION:Bourges\, Cher\, 18000
CATEGORIES:Événement 2025
ORGANIZER;CN="Bourges Triathlon":MAILTO:bourgestri@gmail.com
END:VEVENT
BEGIN:VEVENT
DTSTART;VALUE=DATE:20250316
DTEND;VALUE=DATE:20250317
DTSTAMP:20260421T214323
CREATED:20241202T112539Z
LAST-MODIFIED:20250317T094056Z
UID:5515-1742083200-1742169599@triathlon-centre.org
SUMMARY:Bike & Run de Saché
DESCRIPTION:Retrouvez le programme complet de la journée : \n\n\n9h20 : Briefing des concurrents du parcours M et S sur la ligne de départ\n9h30 : Départ du parcours M et S\n9h45 : Briefing  et départ du parcours XS enfants\n10h : Briefing et départ du parcours XS adultes\n11h00 : Animation course enfants (course à pied non chronométrée)\n11h30 : remise des récompenses et tombola\n\n\nRetrait des dossards :\n\nSamedi 15 de 14h à 17h (salle à côté de la mairie de Saché)\nDimanche 16 de 8h à 9h (étang de Maurux à Saché)\n\n⚠️ Fin des inscriptions le 11 mars \nℹ️ Inscriptions sur : PROTIMING
URL:https://triathlon-centre.org/event/bike-run-de-sache/
LOCATION:Saché\, Indre-et-Loire\, France
CATEGORIES:Événement 2025
ATTACH;FMTTYPE=image/jpeg:https://triathlon-centre.org/wp-content/uploads/2024/12/Bike-Run-Sache-16-03-2025.jpg
ORGANIZER;CN="Association Sach%C3%A9 Bouger":MAILTO:assosachebouger@gmail.com
END:VEVENT
BEGIN:VEVENT
DTSTART;VALUE=DATE:20250330
DTEND;VALUE=DATE:20250331
DTSTAMP:20260421T214323
CREATED:20250317T100251Z
LAST-MODIFIED:20250317T100304Z
UID:6002-1743292800-1743379199@triathlon-centre.org
SUMMARY:Challenge Bike & Run Terres de Perche - Etape 1
DESCRIPTION:L’association Perche Sport 28 organise la 4ème édition du Challenge Bike a Run – Terres de Perche. \nCe Challenge sera composé de 3 étapes réparties du 30 mars au 27 avril. \nInfos 1ère étape : \n\nDimanche 30 mars\nChamprond-en-Gâtine\nDistances de 2 à 12 km\n\n 
URL:https://triathlon-centre.org/event/bike-run-terres-de-perche-etape-1/
LOCATION:Champrond-en-Gâtine\, Eure-et-Loir\, 28240
CATEGORIES:Événement 2025
ATTACH;FMTTYPE=image/jpeg:https://triathlon-centre.org/wp-content/uploads/2025/03/Bike-and-Run-du-Perche.jpg
END:VEVENT
END:VCALENDAR