BEGIN:VCALENDAR
VERSION:2.0
PRODID:-//Triathlon Centre - ECPv6.15.17.1//NONSGML v1.0//EN
CALSCALE:GREGORIAN
METHOD:PUBLISH
X-ORIGINAL-URL:https://triathlon-centre.org
X-WR-CALDESC:Évènements pour Triathlon Centre
REFRESH-INTERVAL;VALUE=DURATION:PT1H
X-Robots-Tag:noindex
X-PUBLISHED-TTL:PT1H
BEGIN:VTIMEZONE
TZID:Europe/Paris
BEGIN:DAYLIGHT
TZOFFSETFROM:+0100
TZOFFSETTO:+0200
TZNAME:CEST
DTSTART:20240331T010000
END:DAYLIGHT
BEGIN:STANDARD
TZOFFSETFROM:+0200
TZOFFSETTO:+0100
TZNAME:CET
DTSTART:20241027T010000
END:STANDARD
BEGIN:DAYLIGHT
TZOFFSETFROM:+0100
TZOFFSETTO:+0200
TZNAME:CEST
DTSTART:20250330T010000
END:DAYLIGHT
BEGIN:STANDARD
TZOFFSETFROM:+0200
TZOFFSETTO:+0100
TZNAME:CET
DTSTART:20251026T010000
END:STANDARD
BEGIN:DAYLIGHT
TZOFFSETFROM:+0100
TZOFFSETTO:+0200
TZNAME:CEST
DTSTART:20260329T010000
END:DAYLIGHT
BEGIN:STANDARD
TZOFFSETFROM:+0200
TZOFFSETTO:+0100
TZNAME:CET
DTSTART:20261025T010000
END:STANDARD
END:VTIMEZONE
BEGIN:VEVENT
DTSTART;VALUE=DATE:20250119
DTEND;VALUE=DATE:20250120
DTSTAMP:20260422T034738
CREATED:20241202T111431Z
LAST-MODIFIED:20250122T144255Z
UID:5511-1737244800-1737331199@triathlon-centre.org
SUMMARY:Bike & Run de l'Epiphanie
DESCRIPTION:Le club de Chartres Métropole Triathlon propose une animation de Bike & Run le dimanche 19 janvier 2025. \nLe Bike & Run de l’épiphanie est un événement de loisir de type « animathlon ». \nCet événement convivial est ouvert à toutes et tous : débutants et confirmés – licenciés FFTRI et non-licenciés – jeunes et adultes. \nInfos pratiques et inscriptions sur : cmtri.org
URL:https://triathlon-centre.org/event/bike-run-de-lepiphanie-2/
LOCATION:Chartres\, Eure-et-Loir\, 28000
CATEGORIES:Événement 2025
ATTACH;FMTTYPE=image/jpeg:https://triathlon-centre.org/wp-content/uploads/2024/12/Bike-Run-Epiphanie-19-01-2025.jpg
ORGANIZER;CN="Chartres M%C3%A9tropole Triathlon":MAILTO:chartresmtriathlon@gmail.com
END:VEVENT
END:VCALENDAR