BEGIN:VCALENDAR
VERSION:2.0
PRODID:-//Triathlon Centre - ECPv6.15.17.1//NONSGML v1.0//EN
CALSCALE:GREGORIAN
METHOD:PUBLISH
X-ORIGINAL-URL:https://triathlon-centre.org
X-WR-CALDESC:Évènements pour Triathlon Centre
REFRESH-INTERVAL;VALUE=DURATION:PT1H
X-Robots-Tag:noindex
X-PUBLISHED-TTL:PT1H
BEGIN:VTIMEZONE
TZID:Europe/Paris
BEGIN:DAYLIGHT
TZOFFSETFROM:+0100
TZOFFSETTO:+0200
TZNAME:CEST
DTSTART:20240331T010000
END:DAYLIGHT
BEGIN:STANDARD
TZOFFSETFROM:+0200
TZOFFSETTO:+0100
TZNAME:CET
DTSTART:20241027T010000
END:STANDARD
BEGIN:DAYLIGHT
TZOFFSETFROM:+0100
TZOFFSETTO:+0200
TZNAME:CEST
DTSTART:20250330T010000
END:DAYLIGHT
BEGIN:STANDARD
TZOFFSETFROM:+0200
TZOFFSETTO:+0100
TZNAME:CET
DTSTART:20251026T010000
END:STANDARD
BEGIN:DAYLIGHT
TZOFFSETFROM:+0100
TZOFFSETTO:+0200
TZNAME:CEST
DTSTART:20260329T010000
END:DAYLIGHT
BEGIN:STANDARD
TZOFFSETFROM:+0200
TZOFFSETTO:+0100
TZNAME:CET
DTSTART:20261025T010000
END:STANDARD
END:VTIMEZONE
BEGIN:VEVENT
DTSTART;VALUE=DATE:20250202
DTEND;VALUE=DATE:20250203
DTSTAMP:20260422T014015
CREATED:20241202T111342Z
LAST-MODIFIED:20250211T082200Z
UID:5508-1738454400-1738540799@triathlon-centre.org
SUMMARY:Bike & Run d'Orléans
DESCRIPTION:
URL:https://triathlon-centre.org/event/bike-run-dorleans-2/
LOCATION:Île Charlemagne\, Loiret\, France
CATEGORIES:Événement 2025
ATTACH;FMTTYPE=image/jpeg:https://triathlon-centre.org/wp-content/uploads/2024/12/Bike-Run-Orleans-02-02-2025.jpg
ORGANIZER;CN="Orl%C3%A9ans ASFAS Triathlon":MAILTO:o.asfastriathlon.concurrents@gmail.com
END:VEVENT
BEGIN:VEVENT
DTSTART;VALUE=DATE:20250202
DTEND;VALUE=DATE:20250203
DTSTAMP:20260422T014015
CREATED:20241202T130249Z
LAST-MODIFIED:20250211T082241Z
UID:5526-1738454400-1738540799@triathlon-centre.org
SUMMARY:Class Tri Châteauroux
DESCRIPTION:Le club de l’ASPTT 36 Sports Nature organise un Class Triathlon le dimanche 2 février à Châteauroux. \nCet événement sera support de la 2ème épreuve du Challenge Jeunes 2025.
URL:https://triathlon-centre.org/event/class-tri-chateauroux/
LOCATION:Châteauroux\, Indre\, 36000\, France
CATEGORIES:Événement 2025
ATTACH;FMTTYPE=image/png:https://triathlon-centre.org/wp-content/uploads/2024/12/Class-Triathlon-Chateauroux-02-02-2025.png
END:VEVENT
END:VCALENDAR