BEGIN:VCALENDAR
VERSION:2.0
PRODID:-//Triathlon Centre - ECPv6.15.17.1//NONSGML v1.0//EN
CALSCALE:GREGORIAN
METHOD:PUBLISH
X-ORIGINAL-URL:https://triathlon-centre.org
X-WR-CALDESC:Évènements pour Triathlon Centre
REFRESH-INTERVAL;VALUE=DURATION:PT1H
X-Robots-Tag:noindex
X-PUBLISHED-TTL:PT1H
BEGIN:VTIMEZONE
TZID:Europe/Paris
BEGIN:DAYLIGHT
TZOFFSETFROM:+0100
TZOFFSETTO:+0200
TZNAME:CEST
DTSTART:20250330T010000
END:DAYLIGHT
BEGIN:STANDARD
TZOFFSETFROM:+0200
TZOFFSETTO:+0100
TZNAME:CET
DTSTART:20251026T010000
END:STANDARD
BEGIN:DAYLIGHT
TZOFFSETFROM:+0100
TZOFFSETTO:+0200
TZNAME:CEST
DTSTART:20260329T010000
END:DAYLIGHT
BEGIN:STANDARD
TZOFFSETFROM:+0200
TZOFFSETTO:+0100
TZNAME:CET
DTSTART:20261025T010000
END:STANDARD
BEGIN:DAYLIGHT
TZOFFSETFROM:+0100
TZOFFSETTO:+0200
TZNAME:CEST
DTSTART:20270328T010000
END:DAYLIGHT
BEGIN:STANDARD
TZOFFSETFROM:+0200
TZOFFSETTO:+0100
TZNAME:CET
DTSTART:20271031T010000
END:STANDARD
END:VTIMEZONE
BEGIN:VEVENT
DTSTART;VALUE=DATE:20260201
DTEND;VALUE=DATE:20260202
DTSTAMP:20260420T191901
CREATED:20251203T121310Z
LAST-MODIFIED:20260211T100323Z
UID:6739-1769904000-1769990399@triathlon-centre.org
SUMMARY:Bike & Run Orléans Parc de Loire
DESCRIPTION:Le traditionnel Bike & Run d’Orléans change quelque peu de nom et devient : le Bike & Run Orléans Parc de Loire. \nRendez-vous le 1er février pour participer à cette course en duo. \nEvenement support de la 2ème étape du Challenge Jeunes 2026. \nℹ️ Informations & Inscriptions : Protiming.fr
URL:https://triathlon-centre.org/event/bike-run-orleans-parc-de-loire/
LOCATION:Parc de Loire\, Orléans\, Loiret\, 45100
CATEGORIES:Challenge Jeunes 2026,Événement 2026
ATTACH;FMTTYPE=image/jpeg:https://triathlon-centre.org/wp-content/uploads/2025/12/Bike-Run-Orleans-01-02-2026.jpg
ORGANIZER;CN="Orl%C3%A9ans ASFAS Triathlon":MAILTO:o.asfastriathlon.concurrents@gmail.com
END:VEVENT
END:VCALENDAR