BEGIN:VCALENDAR
VERSION:2.0
PRODID:-//Triathlon Centre - ECPv6.15.17.1//NONSGML v1.0//EN
CALSCALE:GREGORIAN
METHOD:PUBLISH
X-ORIGINAL-URL:https://triathlon-centre.org
X-WR-CALDESC:Évènements pour Triathlon Centre
REFRESH-INTERVAL;VALUE=DURATION:PT1H
X-Robots-Tag:noindex
X-PUBLISHED-TTL:PT1H
BEGIN:VTIMEZONE
TZID:Europe/Paris
BEGIN:DAYLIGHT
TZOFFSETFROM:+0100
TZOFFSETTO:+0200
TZNAME:CEST
DTSTART:20250330T010000
END:DAYLIGHT
BEGIN:STANDARD
TZOFFSETFROM:+0200
TZOFFSETTO:+0100
TZNAME:CET
DTSTART:20251026T010000
END:STANDARD
BEGIN:DAYLIGHT
TZOFFSETFROM:+0100
TZOFFSETTO:+0200
TZNAME:CEST
DTSTART:20260329T010000
END:DAYLIGHT
BEGIN:STANDARD
TZOFFSETFROM:+0200
TZOFFSETTO:+0100
TZNAME:CET
DTSTART:20261025T010000
END:STANDARD
BEGIN:DAYLIGHT
TZOFFSETFROM:+0100
TZOFFSETTO:+0200
TZNAME:CEST
DTSTART:20270328T010000
END:DAYLIGHT
BEGIN:STANDARD
TZOFFSETFROM:+0200
TZOFFSETTO:+0100
TZNAME:CET
DTSTART:20271031T010000
END:STANDARD
END:VTIMEZONE
BEGIN:VEVENT
DTSTART;VALUE=DATE:20260530
DTEND;VALUE=DATE:20260601
DTSTAMP:20260420T173657
CREATED:20251203T133347Z
LAST-MODIFIED:20251203T133621Z
UID:6763-1780099200-1780271999@triathlon-centre.org
SUMMARY:Triathlon des Coteaux du Vendomois
DESCRIPTION:Le Triathlon des Coteaux du Vendomois revient en 2026 pour l’organisation de sa 29ème édition ! \nAprès une édition record en 2025 avec plus de 2500 participants sur le week-end\, le club de l’US Vendôme Triathlon est prêt à vous accueillir pour cette nouvelle édition ! \nAu programme du week-end \nSamedi 30 mai : \n\nTriathlon XS (individuel uniquement)\nTriathlon S (individuel et relais)\nTriathlon M (individuel et relais)\n\nDimanche 31 mai : \n\nTriathlon L (individuel et relais)\nSwim Bike (distance L)\nCourses jeunes (mini-poussins à pupilles)\n\nPour les plus motivés : découvrez le défi VENDÔMAN (enchaînement des Triathlon S – M – L sur le week-end) 💪 \nℹ️ Informations : Triathlondevendome.com\n📝 Inscriptions : Klikego.com
URL:https://triathlon-centre.org/event/triathlon-des-coteaux-du-vendomois-4/
LOCATION:Villiers-sur-Loir\, Plan d'eau\, Villiers-sur-Loire\, 41100\, France
CATEGORIES:Challenge Jeunes 2026,Événement 2026
ATTACH;FMTTYPE=image/jpeg:https://triathlon-centre.org/wp-content/uploads/2025/12/Tri-Coteaux-du-Vendomois-30-05-2026.jpg
ORGANIZER;CN="Vend%C3%B4me Triathlon":MAILTO:triathlondevendome@gmail.com
END:VEVENT
END:VCALENDAR