BEGIN:VCALENDAR
VERSION:2.0
PRODID:-//Triathlon Centre - ECPv6.15.17.1//NONSGML v1.0//EN
CALSCALE:GREGORIAN
METHOD:PUBLISH
X-ORIGINAL-URL:https://triathlon-centre.org
X-WR-CALDESC:Évènements pour Triathlon Centre
REFRESH-INTERVAL;VALUE=DURATION:PT1H
X-Robots-Tag:noindex
X-PUBLISHED-TTL:PT1H
BEGIN:VTIMEZONE
TZID:Europe/Paris
BEGIN:DAYLIGHT
TZOFFSETFROM:+0100
TZOFFSETTO:+0200
TZNAME:CEST
DTSTART:20250330T010000
END:DAYLIGHT
BEGIN:STANDARD
TZOFFSETFROM:+0200
TZOFFSETTO:+0100
TZNAME:CET
DTSTART:20251026T010000
END:STANDARD
BEGIN:DAYLIGHT
TZOFFSETFROM:+0100
TZOFFSETTO:+0200
TZNAME:CEST
DTSTART:20260329T010000
END:DAYLIGHT
BEGIN:STANDARD
TZOFFSETFROM:+0200
TZOFFSETTO:+0100
TZNAME:CET
DTSTART:20261025T010000
END:STANDARD
BEGIN:DAYLIGHT
TZOFFSETFROM:+0100
TZOFFSETTO:+0200
TZNAME:CEST
DTSTART:20270328T010000
END:DAYLIGHT
BEGIN:STANDARD
TZOFFSETFROM:+0200
TZOFFSETTO:+0100
TZNAME:CET
DTSTART:20271031T010000
END:STANDARD
END:VTIMEZONE
BEGIN:VEVENT
DTSTART;VALUE=DATE:20261018
DTEND;VALUE=DATE:20261019
DTSTAMP:20260421T021133
CREATED:20251205T101414Z
LAST-MODIFIED:20251205T101414Z
UID:6830-1792281600-1792367999@triathlon-centre.org
SUMMARY:Cross Duathlon de Château-Renault
DESCRIPTION:Deuxième édition du Cross Duathlon de Château-Renault\, organisée par le club local du Triathlon Castel Renaudais. \nAprès une première édition réussie en avril 2025\, le club souhaite reconduire l’événement\, cette fois-ci en fin d’année 2026. \nRendez-vous le dimanche 18 octobre 2026. \nL’événement sera support de la 11ème (et avant dernière) étape du Challenge Jeunes 2026.
URL:https://triathlon-centre.org/event/cross-duathlon-de-chateau-renault-2/
LOCATION:Château-Renault\, Indre-et-Loire\, 37110
CATEGORIES:Challenge Jeunes 2026,Événement 2026
ORGANIZER;CN="Triathlon CastelRenaudais":MAILTO:triathlon.castelrenaudais@hotmail.com
END:VEVENT
END:VCALENDAR