BEGIN:VCALENDAR
VERSION:2.0
PRODID:-//Triathlon Centre - ECPv6.15.17.1//NONSGML v1.0//EN
CALSCALE:GREGORIAN
METHOD:PUBLISH
X-WR-CALNAME:Triathlon Centre
X-ORIGINAL-URL:https://triathlon-centre.org
X-WR-CALDESC:Évènements pour Triathlon Centre
REFRESH-INTERVAL;VALUE=DURATION:PT1H
X-Robots-Tag:noindex
X-PUBLISHED-TTL:PT1H
BEGIN:VTIMEZONE
TZID:Europe/Paris
BEGIN:DAYLIGHT
TZOFFSETFROM:+0100
TZOFFSETTO:+0200
TZNAME:CEST
DTSTART:20250330T010000
END:DAYLIGHT
BEGIN:STANDARD
TZOFFSETFROM:+0200
TZOFFSETTO:+0100
TZNAME:CET
DTSTART:20251026T010000
END:STANDARD
BEGIN:DAYLIGHT
TZOFFSETFROM:+0100
TZOFFSETTO:+0200
TZNAME:CEST
DTSTART:20260329T010000
END:DAYLIGHT
BEGIN:STANDARD
TZOFFSETFROM:+0200
TZOFFSETTO:+0100
TZNAME:CET
DTSTART:20261025T010000
END:STANDARD
BEGIN:DAYLIGHT
TZOFFSETFROM:+0100
TZOFFSETTO:+0200
TZNAME:CEST
DTSTART:20270328T010000
END:DAYLIGHT
BEGIN:STANDARD
TZOFFSETFROM:+0200
TZOFFSETTO:+0100
TZNAME:CET
DTSTART:20271031T010000
END:STANDARD
END:VTIMEZONE
BEGIN:VEVENT
DTSTART;VALUE=DATE:20261115
DTEND;VALUE=DATE:20261116
DTSTAMP:20260421T054205
CREATED:20251205T101809Z
LAST-MODIFIED:20260108T073642Z
UID:6834-1794700800-1794787199@triathlon-centre.org
SUMMARY:Bike & Run de Lèves
DESCRIPTION:Après une première édition réussie en 2024\, le club organisateur Triathlon Academy 28\, reconduit l’événement du Bike & Run de Lèves en 2026 ! \nRendez-vous le dimanche 15 novembre 2026 à Lèves. \nNouveauté cette année : l’événement sera support de la 12ème et dernière étape du Challenge Jeunes 2026\, synonyme de finale.
URL:https://triathlon-centre.org/event/bike-run-de-leves/
LOCATION:Lèves\, Eure-et-Loir\, 28300\, France
CATEGORIES:Challenge Jeunes 2026,Événement 2026
ORGANIZER;CN="Triathlon Academy 28":MAILTO:triacademy28@gmail.com
END:VEVENT
END:VCALENDAR