BEGIN:VCALENDAR
VERSION:2.0
PRODID:-//Triathlon Centre - ECPv6.15.17.1//NONSGML v1.0//EN
CALSCALE:GREGORIAN
METHOD:PUBLISH
X-ORIGINAL-URL:https://triathlon-centre.org
X-WR-CALDESC:Évènements pour Triathlon Centre
REFRESH-INTERVAL;VALUE=DURATION:PT1H
X-Robots-Tag:noindex
X-PUBLISHED-TTL:PT1H
BEGIN:VTIMEZONE
TZID:Europe/Paris
BEGIN:DAYLIGHT
TZOFFSETFROM:+0100
TZOFFSETTO:+0200
TZNAME:CEST
DTSTART:20250330T010000
END:DAYLIGHT
BEGIN:STANDARD
TZOFFSETFROM:+0200
TZOFFSETTO:+0100
TZNAME:CET
DTSTART:20251026T010000
END:STANDARD
BEGIN:DAYLIGHT
TZOFFSETFROM:+0100
TZOFFSETTO:+0200
TZNAME:CEST
DTSTART:20260329T010000
END:DAYLIGHT
BEGIN:STANDARD
TZOFFSETFROM:+0200
TZOFFSETTO:+0100
TZNAME:CET
DTSTART:20261025T010000
END:STANDARD
BEGIN:DAYLIGHT
TZOFFSETFROM:+0100
TZOFFSETTO:+0200
TZNAME:CEST
DTSTART:20270328T010000
END:DAYLIGHT
BEGIN:STANDARD
TZOFFSETFROM:+0200
TZOFFSETTO:+0100
TZNAME:CET
DTSTART:20271031T010000
END:STANDARD
END:VTIMEZONE
BEGIN:VEVENT
DTSTART;VALUE=DATE:20260329
DTEND;VALUE=DATE:20260330
DTSTAMP:20260420T155058
CREATED:20260126T113227Z
LAST-MODIFIED:20260211T100624Z
UID:6928-1774742400-1774828799@triathlon-centre.org
SUMMARY:Bike & Run - Terres de Perche 2026
DESCRIPTION:L’association Perchemin reconduit son animation de Bike & Run pour une 5ème édition le dimanche 29 mars 2026 à Champrond en Gâtine. \nPlusieurs distances sont proposées pour rendre l’animation accessible au plus grand nombre : de 2 à 12 km. \nVenez vous essayer à la pratique du Bike & Run le temps d’une matinée 🚴‍♂️🏃‍♀️ \n➡️ Les inscriptions se font sur place. \n💌 Pour plus d’informations\, vous pouvez contacter l’association via l’adresse mail suivante : ngbacle@gmail.com \n  \n 
URL:https://triathlon-centre.org/event/bike-run-terres-de-perche-2026/
LOCATION:Champrond-en-Gâtine\, Eure-et-Loir\, 28240
CATEGORIES:Événement 2026
ATTACH;FMTTYPE=image/jpeg:https://triathlon-centre.org/wp-content/uploads/2026/01/Bike-Run-Terres-de-Perche-29-03-2026.jpg
END:VEVENT
END:VCALENDAR