BEGIN:VCALENDAR
VERSION:2.0
PRODID:-//Triathlon Centre - ECPv6.15.17.1//NONSGML v1.0//EN
CALSCALE:GREGORIAN
METHOD:PUBLISH
X-WR-CALNAME:Triathlon Centre
X-ORIGINAL-URL:https://triathlon-centre.org
X-WR-CALDESC:Évènements pour Triathlon Centre
REFRESH-INTERVAL;VALUE=DURATION:PT1H
X-Robots-Tag:noindex
X-PUBLISHED-TTL:PT1H
BEGIN:VTIMEZONE
TZID:Europe/Paris
BEGIN:DAYLIGHT
TZOFFSETFROM:+0100
TZOFFSETTO:+0200
TZNAME:CEST
DTSTART:20250330T010000
END:DAYLIGHT
BEGIN:STANDARD
TZOFFSETFROM:+0200
TZOFFSETTO:+0100
TZNAME:CET
DTSTART:20251026T010000
END:STANDARD
BEGIN:DAYLIGHT
TZOFFSETFROM:+0100
TZOFFSETTO:+0200
TZNAME:CEST
DTSTART:20260329T010000
END:DAYLIGHT
BEGIN:STANDARD
TZOFFSETFROM:+0200
TZOFFSETTO:+0100
TZNAME:CET
DTSTART:20261025T010000
END:STANDARD
BEGIN:DAYLIGHT
TZOFFSETFROM:+0100
TZOFFSETTO:+0200
TZNAME:CEST
DTSTART:20270328T010000
END:DAYLIGHT
BEGIN:STANDARD
TZOFFSETFROM:+0200
TZOFFSETTO:+0100
TZNAME:CET
DTSTART:20271031T010000
END:STANDARD
END:VTIMEZONE
BEGIN:VEVENT
DTSTART;VALUE=DATE:20260425
DTEND;VALUE=DATE:20260426
DTSTAMP:20260420T142424
CREATED:20251203T123232Z
LAST-MODIFIED:20260316T125156Z
UID:6747-1777075200-1777161599@triathlon-centre.org
SUMMARY:Duathlon de St Ouen
DESCRIPTION:Le club du Tri Attitude 41 propose un événement de Duathlon le dimanche 25 avril 2026. \nAu programme de la journée : \n\nA partir de 13h00 : Duathlon S\nA partir de 15h30 : Duathlon XS\nA 16h45 : course 10-12 ans\n\nInscriptions et informations en ligne sur : klikego.com \n 
URL:https://triathlon-centre.org/event/duathlon-de-st-ouen/
LOCATION:St Ouen\, Loir-et-Cher\, 41100
CATEGORIES:Événement 2026
ATTACH;FMTTYPE=image/jpeg:https://triathlon-centre.org/wp-content/uploads/2025/12/Duathlon-St-Ouen-25-04-2026.jpeg
END:VEVENT
END:VCALENDAR