BEGIN:VCALENDAR
VERSION:2.0
PRODID:-//Triathlon Centre - ECPv6.15.17.1//NONSGML v1.0//EN
CALSCALE:GREGORIAN
METHOD:PUBLISH
X-ORIGINAL-URL:https://triathlon-centre.org
X-WR-CALDESC:Évènements pour Triathlon Centre
REFRESH-INTERVAL;VALUE=DURATION:PT1H
X-Robots-Tag:noindex
X-PUBLISHED-TTL:PT1H
BEGIN:VTIMEZONE
TZID:Europe/Paris
BEGIN:DAYLIGHT
TZOFFSETFROM:+0100
TZOFFSETTO:+0200
TZNAME:CEST
DTSTART:20250330T010000
END:DAYLIGHT
BEGIN:STANDARD
TZOFFSETFROM:+0200
TZOFFSETTO:+0100
TZNAME:CET
DTSTART:20251026T010000
END:STANDARD
BEGIN:DAYLIGHT
TZOFFSETFROM:+0100
TZOFFSETTO:+0200
TZNAME:CEST
DTSTART:20260329T010000
END:DAYLIGHT
BEGIN:STANDARD
TZOFFSETFROM:+0200
TZOFFSETTO:+0100
TZNAME:CET
DTSTART:20261025T010000
END:STANDARD
BEGIN:DAYLIGHT
TZOFFSETFROM:+0100
TZOFFSETTO:+0200
TZNAME:CEST
DTSTART:20270328T010000
END:DAYLIGHT
BEGIN:STANDARD
TZOFFSETFROM:+0200
TZOFFSETTO:+0100
TZNAME:CET
DTSTART:20271031T010000
END:STANDARD
END:VTIMEZONE
BEGIN:VEVENT
DTSTART;VALUE=DATE:20260508
DTEND;VALUE=DATE:20260509
DTSTAMP:20260420T155016
CREATED:20251203T131515Z
LAST-MODIFIED:20260225T142407Z
UID:6756-1778198400-1778284799@triathlon-centre.org
SUMMARY:Cross Tri Bulle d'O
DESCRIPTION:Le Cross Tri Bulle d’O revient en 2026. \nPetite nouveauté cette année avec un changement de date : rendez-vous le vendredi 8 mai ! \nLes inscriptions se font en ligne sur le site : CLICKANDRUN.NET
URL:https://triathlon-centre.org/event/cross-tri-bulle-do-3/
LOCATION:Joué-lès-Tours\, Indre-et-loire\, 37300\, France
CATEGORIES:Challenge Jeunes 2026,Événement 2026
ATTACH;FMTTYPE=image/png:https://triathlon-centre.org/wp-content/uploads/2025/12/Affiche-Cross-Tri-Bulle-dO-scaled.png
ORGANIZER;CN="Triathlon Club de Jou%C3%A9-l%C3%A8s-Tours":MAILTO:inscription.tcj@gmail.com
END:VEVENT
END:VCALENDAR