BEGIN:VCALENDAR
VERSION:2.0
PRODID:-//Triathlon Centre - ECPv6.15.17.1//NONSGML v1.0//EN
CALSCALE:GREGORIAN
METHOD:PUBLISH
X-ORIGINAL-URL:https://triathlon-centre.org
X-WR-CALDESC:Évènements pour Triathlon Centre
REFRESH-INTERVAL;VALUE=DURATION:PT1H
X-Robots-Tag:noindex
X-PUBLISHED-TTL:PT1H
BEGIN:VTIMEZONE
TZID:Europe/Paris
BEGIN:DAYLIGHT
TZOFFSETFROM:+0100
TZOFFSETTO:+0200
TZNAME:CEST
DTSTART:20250330T010000
END:DAYLIGHT
BEGIN:STANDARD
TZOFFSETFROM:+0200
TZOFFSETTO:+0100
TZNAME:CET
DTSTART:20251026T010000
END:STANDARD
BEGIN:DAYLIGHT
TZOFFSETFROM:+0100
TZOFFSETTO:+0200
TZNAME:CEST
DTSTART:20260329T010000
END:DAYLIGHT
BEGIN:STANDARD
TZOFFSETFROM:+0200
TZOFFSETTO:+0100
TZNAME:CET
DTSTART:20261025T010000
END:STANDARD
BEGIN:DAYLIGHT
TZOFFSETFROM:+0100
TZOFFSETTO:+0200
TZNAME:CEST
DTSTART:20270328T010000
END:DAYLIGHT
BEGIN:STANDARD
TZOFFSETFROM:+0200
TZOFFSETTO:+0100
TZNAME:CET
DTSTART:20271031T010000
END:STANDARD
END:VTIMEZONE
BEGIN:VEVENT
DTSTART;VALUE=DATE:20260516
DTEND;VALUE=DATE:20260517
DTSTAMP:20260420T155141
CREATED:20260122T142455Z
LAST-MODIFIED:20260318T100649Z
UID:6918-1778889600-1778975999@triathlon-centre.org
SUMMARY:Triathlon de l'Etang des Bois
DESCRIPTION:Le Triathlon de l’Etang des Bois fait son retour en 2026 ! \nOrganisé par deux triathlètes de la région\, l’événement propose 3 formats de courses : \n\nTriathlon découverte XS\nTriathlon sprint S\nTriathlon distance olympique M\n\nDes distances pour tout le monde\, du triathlète débutant au confirmé. \nToutes les informations sont à retrouver sur : jt-triathlon.odoo.com \nInscriptions sur : PROTIMING
URL:https://triathlon-centre.org/event/triathlon-de-letang-des-bois/
LOCATION:Vieilles-Maisons-sur-Joudry\, Loiret\, 45260
CATEGORIES:Événement 2026
ATTACH;FMTTYPE=image/png:https://triathlon-centre.org/wp-content/uploads/2026/01/Triathlon-Etang-des-Bois-16-05-2026.png
END:VEVENT
END:VCALENDAR