BEGIN:VCALENDAR
VERSION:2.0
PRODID:-//Triathlon Centre - ECPv6.15.17.1//NONSGML v1.0//EN
CALSCALE:GREGORIAN
METHOD:PUBLISH
X-WR-CALNAME:Triathlon Centre
X-ORIGINAL-URL:https://triathlon-centre.org
X-WR-CALDESC:Évènements pour Triathlon Centre
REFRESH-INTERVAL;VALUE=DURATION:PT1H
X-Robots-Tag:noindex
X-PUBLISHED-TTL:PT1H
BEGIN:VTIMEZONE
TZID:Europe/Paris
BEGIN:DAYLIGHT
TZOFFSETFROM:+0100
TZOFFSETTO:+0200
TZNAME:CEST
DTSTART:20250330T010000
END:DAYLIGHT
BEGIN:STANDARD
TZOFFSETFROM:+0200
TZOFFSETTO:+0100
TZNAME:CET
DTSTART:20251026T010000
END:STANDARD
BEGIN:DAYLIGHT
TZOFFSETFROM:+0100
TZOFFSETTO:+0200
TZNAME:CEST
DTSTART:20260329T010000
END:DAYLIGHT
BEGIN:STANDARD
TZOFFSETFROM:+0200
TZOFFSETTO:+0100
TZNAME:CET
DTSTART:20261025T010000
END:STANDARD
BEGIN:DAYLIGHT
TZOFFSETFROM:+0100
TZOFFSETTO:+0200
TZNAME:CEST
DTSTART:20270328T010000
END:DAYLIGHT
BEGIN:STANDARD
TZOFFSETFROM:+0200
TZOFFSETTO:+0100
TZNAME:CET
DTSTART:20271031T010000
END:STANDARD
END:VTIMEZONE
BEGIN:VEVENT
DTSTART;VALUE=DATE:20260523
DTEND;VALUE=DATE:20260525
DTSTAMP:20260420T161527
CREATED:20251203T132219Z
LAST-MODIFIED:20260126T135859Z
UID:6760-1779494400-1779667199@triathlon-centre.org
SUMMARY:Triathlon du Parc de Loire
DESCRIPTION:Participez au Triathlon du Parc de Loire le week-end du 23 & 24 mai 2026 ! \nLe renommé Triathlon de l’Île Charlemagne change de nom en 2026 et devient : le Triathlon du Parc de Loire. \nSeul le nom change\, vous retrouverez sur l’ensemble du week-end toute l’équipe de bénévoles du club de l’Orléans ASFAS Triathlon. \nLes inscriptions sont ouvertes\, ne tardez pas à réserver votre dossard sur : PROTIMING \nℹ️ Pour plus d’informations\, rendez-vous sur le site du club : oasfastriathlon.fr \n 
URL:https://triathlon-centre.org/event/triathlon-du-parc-de-loire/
LOCATION:Orléans\, Parc de Loire\, Loiret\, 45100
CATEGORIES:Événement 2026
ATTACH;FMTTYPE=image/jpeg:https://triathlon-centre.org/wp-content/uploads/2025/12/Triathlon-Parc-de-Loire-23-05-2026.jpeg
ORGANIZER;CN="Orl%C3%A9ans ASFAS Triathlon":MAILTO:o.asfastriathlon.concurrents@gmail.com
END:VEVENT
END:VCALENDAR