BEGIN:VCALENDAR
VERSION:2.0
PRODID:-//Triathlon Centre - ECPv6.15.17.1//NONSGML v1.0//EN
CALSCALE:GREGORIAN
METHOD:PUBLISH
X-WR-CALNAME:Triathlon Centre
X-ORIGINAL-URL:https://triathlon-centre.org
X-WR-CALDESC:Évènements pour Triathlon Centre
REFRESH-INTERVAL;VALUE=DURATION:PT1H
X-Robots-Tag:noindex
X-PUBLISHED-TTL:PT1H
BEGIN:VTIMEZONE
TZID:Europe/Paris
BEGIN:DAYLIGHT
TZOFFSETFROM:+0100
TZOFFSETTO:+0200
TZNAME:CEST
DTSTART:20250330T010000
END:DAYLIGHT
BEGIN:STANDARD
TZOFFSETFROM:+0200
TZOFFSETTO:+0100
TZNAME:CET
DTSTART:20251026T010000
END:STANDARD
BEGIN:DAYLIGHT
TZOFFSETFROM:+0100
TZOFFSETTO:+0200
TZNAME:CEST
DTSTART:20260329T010000
END:DAYLIGHT
BEGIN:STANDARD
TZOFFSETFROM:+0200
TZOFFSETTO:+0100
TZNAME:CET
DTSTART:20261025T010000
END:STANDARD
BEGIN:DAYLIGHT
TZOFFSETFROM:+0100
TZOFFSETTO:+0200
TZNAME:CEST
DTSTART:20270328T010000
END:DAYLIGHT
BEGIN:STANDARD
TZOFFSETFROM:+0200
TZOFFSETTO:+0100
TZNAME:CET
DTSTART:20271031T010000
END:STANDARD
END:VTIMEZONE
BEGIN:VEVENT
DTSTART;VALUE=DATE:20260628
DTEND;VALUE=DATE:20260629
DTSTAMP:20260420T171750
CREATED:20251205T093520Z
LAST-MODIFIED:20260226T105628Z
UID:6808-1782604800-1782691199@triathlon-centre.org
SUMMARY:1/2 finale Championnat France Aquathlon - Zone Centre Ouest
DESCRIPTION:Rendez-vous le dimanche 28 juin 2026 à Joué-lès-Tours pour la 1/2 finale du Championnat de France d’Aquathlon (Zone Centre-Ouest)
URL:https://triathlon-centre.org/event/1-2-finale-championnat-france-aquathlon-zone-centre-ouest/
LOCATION:Joué-lès-Tours\, Indre-et-loire\, 37300\, France
CATEGORIES:Événement 2026
ATTACH;FMTTYPE=image/png:https://triathlon-centre.org/wp-content/uploads/2025/12/Aquathlon-Joue-les-Tours-28-06-2026-scaled.png
ORGANIZER;CN="Triathlon Club de Jou%C3%A9-l%C3%A8s-Tours":MAILTO:inscription.tcj@gmail.com
END:VEVENT
BEGIN:VEVENT
DTSTART;VALUE=DATE:20260628
DTEND;VALUE=DATE:20260629
DTSTAMP:20260420T171750
CREATED:20251205T093828Z
LAST-MODIFIED:20260225T142517Z
UID:6810-1782604800-1782691199@triathlon-centre.org
SUMMARY:Triathlon de l'Etang du Puits
DESCRIPTION:Le Triathlon de l’Étang du Puits revient pour une 5ème édition le dimanche 28 juin 2026. \nℹ️ Informations : triathlonetangdupuits.com
URL:https://triathlon-centre.org/event/triathlon-de-letang-du-puits-5/
LOCATION:Argent-sur-Sauldre\, Cher\, 18410\, France
CATEGORIES:Événement 2026
ATTACH;FMTTYPE=image/jpeg:https://triathlon-centre.org/wp-content/uploads/2025/12/Triathlon-Etang-du-Puits-28-06-2026.jpg
ORGANIZER;CN="AS Gien Triathlon":MAILTO:triathlonetangdupuits@gmail.com
END:VEVENT
BEGIN:VEVENT
DTSTART;VALUE=DATE:20260628
DTEND;VALUE=DATE:20260629
DTSTAMP:20260420T171750
CREATED:20251205T094238Z
LAST-MODIFIED:20260126T145616Z
UID:6812-1782604800-1782691199@triathlon-centre.org
SUMMARY:Raid Nature Sancoinnais
DESCRIPTION:
URL:https://triathlon-centre.org/event/raid-nature-sancoinnais-2/
LOCATION:Sancoins\, Cher\, 18600
CATEGORIES:Événement 2026
ATTACH;FMTTYPE=image/jpeg:https://triathlon-centre.org/wp-content/uploads/2025/12/RAID-Nature-Sancoins-28-06-2026.jpg
END:VEVENT
END:VCALENDAR