Workbook
Name Courses: INDEX([1]Données!$E$117:$E$124,MATCH([1]Paramètres!$L$2,[1]Données!$D$117:$D$124,0))

Sheet Mini poussins
D1: Triathlon Chartres - Mini Poussins
A3: Triathlon
A4: Catégorie :
A5: Sexe : | C5: MIXTE
A8: CLT. | B8: DOS. | C8: NOM Prénom | D8: SEX. | E8: ANNEE | F8: CAT. | G8: CLUB | H8: CLASSE | I8: DEPART | J8: ARRIVEE | K8: TEMPS | L8: ECART | M8: km/h | N8: min/km
A9: 1 | B9: 555 | C9: Justin THENAISIE | D9: M | E9: 1900 | G9: T.C. JOUE LES TOURS | H9: 2019 | I9: 0.52090278 | J9: 0.52540509 | K9: 0.0045023148 | L9: 0 | M9: 14.344473 | N9: 0.0029047192
A10: 2 | B10: 535 | C10: Constance POUILLOUX | D10: F | E10: 1900 | G10: T.C. JOUE LES TOURS | H10: 2019 | I10: 0.52368056 | J10: 0.52908565 | K10: 0.0054050926 | L10: 0.00090277778 | M10: 11.948608 | N10: 0.0034871565
A11: 3 | B11: 541 | C11: Léna LEMEUNIER | D11: F | E11: 1900 | G11: VENDOME TRIATHLON | H11: 2019 | I11: 0.52368056 | J11: 0.52913194 | K11: 0.0054513889 | L11: 0.00094907407 | M11: 11.847134 | N11: 0.0035170251
A12: 4 | B12: 556 | C12: Mahé GILBERT | D12: M | E12: 1900 | G12: C'CMTRI | H12: 2019 | I12: 0.52090278 | J12: 0.52658565 | K12: 0.0056828704 | L12: 0.0011805556 | M12: 11.364562 | N12: 0.003666368
A13: 5 | B13: 534 | C13: Augustine BETTI | D13: F | E13: 1900 | G13: VENDOME TRIATHLON | H13: 2019 | I13: 0.52368056 | J13: 0.52952546 | K13: 0.0058449074 | L13: 0.0013425926 | M13: 11.049505 | N13: 0.003770908
A14: 6 | B14: 538 | C14: Jeanne GUEMANN | D14: F | E14: 1900 | G14: ORLEANS ASFAS TRIATHLON | H14: 2019 | I14: 0.52368056 | J14: 0.52960648 | K14: 0.0059259259 | L14: 0.0014236111 | M14: 10.898438 | N14: 0.003823178
A15: 7 | B15: 539 | C15: Jeanne HAMART | D15: F | E15: 1900 | G15: AS GIEN NATATION SECTION TRIATHLON | H15: 2020 | I15: 0.52368056 | J15: 0.52967593 | K15: 0.0059953704 | L15: 0.0014930556 | M15: 10.772201 | N15: 0.0038679809
A16: 8 | B16: 533 | C16: Ariane POITRIMOL | D16: F | E16: 1900 | G16: TRIATHLON ACADEMY 28 | H16: 2019 | I16: 0.52368056 | J16: 0.52983796 | K16: 0.0061574074 | L16: 0.0016550926 | M16: 10.488722 | N16: 0.0039725209
A17: 9 | B17: 545 | C17: Sohann GUILLOTEAU CADORET | D17: F | E17: 1900 | G17: VENDOME TRIATHLON | H17: 2020 | I17: 0.52368056 | J17: 0.53011574 | K17: 0.0064351852 | L17: 0.0019328704 | M17: 10.035971 | N17: 0.0041517324
A18: 10 | B18: 554 | C18: Jules DROUIN | D18: M | E18: 1900 | G18: TRIATHLON ACADEMY 28 | H18: 2019 | I18: 0.52090278 | J18: 0.5275463 | K18: 0.0066435185 | L18: 0.0021412037 | M18: 9.7212544 | N18: 0.004286141
A19: 11 | B19: 544 | C19: Romane SAVARY | D19: F | E19: 1900 | G19: T.C. JOUE LES TOURS | H19: 2019 | I19: 0.52368056 | J19: 0.53043981 | K19: 0.0067592593 | L19: 0.0022569444 | M19: 9.5547945 | N19: 0.0043608124
A20: 12 | B20: 550 | C20: Augustine SCHIMEK | D20: F | E20: 1900 | G20: VENDOME TRIATHLON | H20: 2019 | I20: 0.52368056 | J20: 0.53056713 | K20: 0.0068865741 | L20: 0.0023842593 | M20: 9.3781513 | N20: 0.004442951
... A29: 21 | B29: 552 | C29: Gabin GIRAUD | D29: M | E29: 1900 | G29: TRIATHLON ACADEMY 28 | H29: 2019 | I29: 0.52090278 | J29: 0.52984954 | K29: 0.0089467593 | L29: 0.0044444444 | M29: 7.2186287 | N29: 0.0057721027

Sheet Poussins
E1: Triathlon Chartres - Poussin.e.s
A3: Triathlon
A4: Catégorie :
A5: Sexe : | C5: MIXTE
A8: CLT. | B8: DOS. | C8: NOM Prénom | D8: SEX. | E8: ANNEE | F8: CAT. | G8: CLUB | H8: CLASSE | I8: DEPART | J8: ARRIVEE | K8: TEMPS | L8: ECART | M8: km/h | N8: min/km
A9: 1 | B9: 652 | C9: Octave BETTI | D9: M | E9: 1900 | G9: VENDOME TRIATHLON | H9: 2017 | I9: 0.53310185 | J9: 0.54033565 | K9: 0.0072337963 | L9: 0 | M9: 16.128 | N9: 0.0025834987
A10: 2 | B10: 645 | C10: Hugo CHAILLER | D10: M | E10: 1900 | G10: C'CMTRI | H10: 2017 | I10: 0.53310185 | J10: 0.54063657 | K10: 0.0075347222 | L10: 0.00030092593 | M10: 15.483871 | N10: 0.0026909722
A11: 3 | B11: 641 | C11: Constantin POITRIMOL | D11: M | E11: 1900 | G11: C'CMTRI | H11: 2017 | I11: 0.53310185 | J11: 0.54075231 | K11: 0.007650463 | L11: 0.00041666667 | M11: 15.249622 | N11: 0.0027323082
A12: 4 | B12: 643 | C12: Ewenn MARCHISET | D12: M | E12: 1900 | G12: ORLEANS ASFAS TRIATHLON | H12: 2017 | I12: 0.53310185 | J12: 0.54086806 | K12: 0.0077662037 | L12: 0.00053240741 | M12: 15.022355 | N12: 0.0027736442
A13: 5 | B13: 655 | C13: Sacha ROCHERIEUX | D13: M | E13: 1900 | G13: TRIATHLON ACADEMY 28 | H13: 2018 | I13: 0.53310185 | J13: 0.54096065 | K13: 0.0078587963 | L13: 0.000625 | M13: 14.845361 | N13: 0.002806713
A14: 6 | B14: 651 | C14: Nahel TURMEL | D14: M | E14: 1900 | G14: TRIATHLON ACADEMY 28 | H14: 2018 | I14: 0.53310185 | J14: 0.54106481 | K14: 0.007962963 | L14: 0.00072916667 | M14: 14.651163 | N14: 0.0028439153
A15: 7 | B15: 649 | C15: Malo NEDELEC | D15: M | E15: 1900 | G15: C'CMTRI | H15: 2017 | I15: 0.53310185 | J15: 0.54112269 | K15: 0.0080208333 | L15: 0.00078703704 | M15: 14.545455 | N15: 0.0028645833
A16: 8 | B16: 654 | C16: Robin THOMAS | D16: M | E16: 1900 | G16: VENDOME TRIATHLON | H16: 2017 | I16: 0.53310185 | J16: 0.54128472 | K16: 0.0081828704 | L16: 0.00094907407 | M16: 14.257426 | N16: 0.0029224537
A17: 9 | B17: 637 | C17: Arthur PERIER | D17: M | E17: 1900 | G17: TRIATHLON ACADEMY 28 | H17: 2017 | I17: 0.53310185 | J17: 0.54133102 | K17: 0.0082291667 | L17: 0.00099537037 | M17: 14.177215 | N17: 0.0029389881
A18: 10 | B18: 580 | C18: Zola MOREAU | D18: F | E18: 1900 | G18: TEAM ETT (EXTREME TRIATHLON TRAIL) | H18: 2017 | I18: 0.53518519 | J18: 0.54347222 | K18: 0.008287037 | L18: 0.0010532407 | M18: 14.078212 | N18: 0.0029596561
A19: 11 | B19: 564 | C19: Anouck GUILLOTEAU CADORET | D19: F | E19: 1900 | G19: VENDOME TRIATHLON | H19: 2018 | I19: 0.53518519 | J19: 0.54359954 | K19: 0.0084143519 | L19: 0.0011805556 | M19: 13.865199 | N19: 0.0030051257
A20: 12 | B20: 646 | C20: Hugo COUDERT | D20: M | E20: 1900 | G20: TRIATHLON ACADEMY 28 | H20: 2018 | I20: 0.53310185 | J20: 0.54153935 | K20: 0.0084375 | L20: 0.0012037037 | M20: 13.82716 | N20: 0.0030133929
... A48: 40 | B48: 575 | C48: Marion BOUCHET | D48: F | E48: 1900 | G48: SPIDERBIKE | H48: 2017 | I48: 0.53518519 | J48: 0.54833333 | K48: 0.013148148 | L48: 0.0059143519 | M48: 8.8732394 | N48: 0.0046957672

Sheet Pupilles
E1: Triathlon Chartres - Pupilles MF
A3: Triathlon
A4: Catégorie :
A5: Sexe : | C5: MIXTE
A8: CLT. | B8: DOS. | C8: NOM Prénom | D8: SEX. | E8: ANNEE | F8: CAT. | G8: CLUB | H8: CLASSE | I8: DEPART | J8: ARRIVEE | K8: TEMPS | L8: ECART | M8: km/h | N8: min/km
A9: 1 | B9: 731 | C9: Louis LEROY | D9: M | E9: 1900 | G9: C'CMTRI | H9: 2015 | I9: 0.54967593 | J9: 0.55899306 | K9: 0.0093171296 | L9: 0 | M9: 16.099379 | N9: 0.0025880916
A10: 2 | B10: 736 | C10: Milaume RIVIERRE | D10: M | E10: 1900 | G10: TRIATHLON ACADEMY 28 | H10: 2015 | I10: 0.54967593 | J10: 0.5590162 | K10: 0.0093402778 | L10: 2.3148148e-05 | M10: 16.05948 | N10: 0.0025945216
A11: 3 | B11: 730 | C11: Jules SOURY | D11: M | E11: 1900 | G11: VENDOME TRIATHLON | H11: 2015 | I11: 0.54967593 | J11: 0.55931713 | K11: 0.0096412037 | L11: 0.00032407407 | M11: 15.558223 | N11: 0.0026781121
A12: 4 | B12: 740 | C12: Paul HAMART | D12: M | E12: 1900 | G12: AS GIEN NATATION SECTION TRIATHLON | H12: 2016 | I12: 0.54967593 | J12: 0.55938657 | K12: 0.0097106481 | L12: 0.00039351852 | M12: 15.446961 | N12: 0.0026974023
A13: 5 | B13: 684 | C13: Louise PAVIOT | D13: F | E13: 1900 | G13: C'CMTRI | H13: 2015 | I13: 0.55314815 | J13: 0.5628588 | K13: 0.0097106481 | L13: 0.00039351852 | M13: 15.446961 | N13: 0.0026974023
A14: 6 | B14: 734 | C14: Mathys LE CALLONEC | D14: M | E14: 1900 | G14: VENDOME TRIATHLON | H14: 2015 | I14: 0.54967593 | J14: 0.55945602 | K14: 0.0097800926 | L14: 0.00046296296 | M14: 15.337278 | N14: 0.0027166924
A15: 7 | B15: 683 | C15: Léane JOUCQ | D15: F | E15: 1900 | G15: T.C. JOUE LES TOURS | H15: 2015 | I15: 0.55314815 | J15: 0.56297454 | K15: 0.0098263889 | L15: 0.00050925926 | M15: 15.265018 | N15: 0.0027295525
A16: 8 | B16: 724 | C16: Clément ROUX | D16: M | E16: 1900 | G16: VIERZON TRIATHLON18 | H16: 2015 | I16: 0.54967593 | J16: 0.5596875 | K16: 0.010011574 | L16: 0.00069444444 | M16: 14.982659 | N16: 0.0027809928
A17: 9 | B17: 738 | C17: Noam TURMEL | D17: M | E17: 1900 | G17: TRIATHLON ACADEMY 28 | H17: 2016 | I17: 0.54967593 | J17: 0.55975694 | K17: 0.010081019 | L17: 0.00076388889 | M17: 14.879449 | N17: 0.0028002829
A18: 10 | B18: 725 | C18: Côme DARRAS | D18: M | E18: 1900 | G18: TRIATHLON ACADEMY 28 | H18: 2016 | I18: 0.54967593 | J18: 0.55976852 | K18: 0.010092593 | L18: 0.00077546296 | M18: 14.862385 | N18: 0.0028034979
A19: 11 | B19: 688 | C19: Nelly GUIBET | D19: F | E19: 1900 | G19: ORLEANS ASFAS TRIATHLON | H19: 2016 | I19: 0.55314815 | J19: 0.56328704 | K19: 0.010138889 | L19: 0.00082175926 | M19: 14.794521 | N19: 0.002816358
A20: 12 | B20: 672 | C20: Constance BLANCHET | D20: F | E20: 1900 | G20: T.C. JOUE LES TOURS | H20: 2015 | I20: 0.55314815 | J20: 0.56340278 | K20: 0.01025463 | L20: 0.0009375 | M20: 14.62754 | N20: 0.0028485082
... A64: 56 | B64: 663 | C64: Adèle PREVOSTEAU | D64: F | E64: 1900 | G64: TRIATHLON ACADEMY 28 | H64: 2016 | I64: 0.55314815 | J64: 0.56680556 | K64: 0.013657407 | L64: 0.0043402778 | M64: 10.983051 | N64: 0.0037937243

Sheet Benjamins
E1: Triathlon Chartres - Benjamin.e.s
A3: Triathlon
A4: Catégorie :
A5: Sexe : | C5: MIXTE
A8: CLT. | B8: DOS. | C8: NOM Prénom | D8: SEX. | E8: ANNEE | F8: CAT. | G8: CLUB | H8: CLASSE | I8: DEPART | J8: ARRIVEE | K8: TEMPS | L8: ECART | M8: km/h | N8: min/km
A9: 1 | B9: 772 | C9: Eliott PAVIOT | D9: M | E9: 1900 | G9: C'CMTRI | H9: 2013 | I9: 0.59671296 | J9: 0.60873843 | K9: 0.012025463 | L9: 0 | M9: 16.284889 | N9: 0.0025586091
A10: 2 | B10: 775 | C10: Marin COUTAT | D10: M | E10: 1900 | G10: VENDOME TRIATHLON | H10: 2014 | I10: 0.59671296 | J10: 0.60981481 | K10: 0.013101852 | L10: 0.0010763889 | M10: 14.946996 | N10: 0.0027876281
A11: 3 | B11: 771 | C11: Axel PERRIN | D11: M | E11: 1900 | G11: VIERZON TRIATHLON18 | H11: 2013 | I11: 0.59671296 | J11: 0.61003472 | K11: 0.013321759 | L11: 0.0012962963 | M11: 14.700261 | N11: 0.0028344169
A12: 4 | B12: 758 | C12: Inès RACHMOUN | D12: F | E12: 1900 | G12: TRIATHLON ACADEMY 28 | H12: 2013 | I12: 0.60226852 | J12: 0.61560185 | K12: 0.013333333 | L12: 0.0013078704 | M12: 14.6875 | N12: 0.0028368794
A13: 5 | B13: 762 | C13: Oriane THOMAS | D13: F | E13: 1900 | G13: VENDOME TRIATHLON | H13: 2013 | I13: 0.60226852 | J13: 0.61569444 | K13: 0.013425926 | L13: 0.001400463 | M13: 14.586207 | N13: 0.00285658
A14: 6 | B14: 776 | C14: Maxime PELLÉ | D14: M | E14: 1900 | G14: C'CMTRI | H14: 2014 | I14: 0.59671296 | J14: 0.61016204 | K14: 0.013449074 | L14: 0.0014236111 | M14: 14.561102 | N14: 0.0028615051
A15: 7 | B15: 764 | C15: Anna PITAULT | D15: F | E15: 1900 | G15: ROMORANTIN | H15: 2014 | I15: 0.60226852 | J15: 0.61579861 | K15: 0.013530093 | L15: 0.0015046296 | M15: 14.473909 | N15: 0.0028787431
A16: 8 | B16: 761 | C16: Mila BAILLY | D16: F | E16: 1900 | G16: C'CMTRI | H16: 2014 | I16: 0.60226852 | J16: 0.61594907 | K16: 0.013680556 | L16: 0.0016550926 | M16: 14.314721 | N16: 0.0029107565
A17: 9 | B17: 780 | C17: Paul ANTHEAUME | D17: M | E17: 1900 | G17: VENDOME TRIATHLON | H17: 2014 | I17: 0.59671296 | J17: 0.6105787 | K17: 0.013865741 | L17: 0.0018402778 | M17: 14.123539 | N17: 0.0029501576
A18: 10 | B18: 768 | C18: Amaury LIMPALAER | D18: M | E18: 1900 | G18: TRIATHLON ACADEMY 28 | H18: 2014 | I18: 0.59671296 | J18: 0.61083333 | K18: 0.01412037 | L18: 0.0020949074 | M18: 13.868852 | N18: 0.0030043341
A19: 11 | B19: 759 | C19: Louison LELARGE | D19: F | E19: 1900 | G19: VENDOME TRIATHLON | H19: 2014 | I19: 0.60226852 | J19: 0.61643519 | K19: 0.014166667 | L19: 0.0021412037 | M19: 13.823529 | N19: 0.0030141844
A20: 12 | B20: 756 | C20: Cordélia POITRIMOL | D20: F | E20: 1900 | G20: C'CMTRI | H20: 2014 | I20: 0.60226852 | J20: 0.61650463 | K20: 0.014236111 | L20: 0.0022106481 | M20: 13.756098 | N20: 0.0030289598
A21: 13 | B21: 770 | C21: Arthur CALOUX | D21: M | E21: 1900 | G21: T.C. JOUE LES TOURS | H21: 2013 | I21: 0.59671296 | J21: 0.61101852 | K21: 0.014305556 | L21: 0.0022800926 | M21: 13.68932 | N21: 0.0030437352
A22: 14 | B22: 760 | C22: Margot THOISY | D22: F | E22: 1900 | G22: TRIATHLON ACADEMY 28 | H22: 2013 | I22: 0.60226852 | J22: 0.61663194 | K22: 0.014363426 | L22: 0.002337963 | M22: 13.634166 | N22: 0.0030560481
A23: 15 | B23: 753 | C23: Alice TARDIF | D23: F | E23: 1900 | G23: VENDOME TRIATHLON | H23: 2014 | I23: 0.60226852 | J23: 0.61678241 | K23: 0.014513889 | L23: 0.0024884259 | M23: 13.492823 | N23: 0.0030880615
A24: 16 | B24: 777 | C24: Médine LEROUX | D24: M | E24: 1900 | G24: VENDOME TRIATHLON | H24: 2014 | I24: 0.59671296 | J24: 0.61127315 | K24: 0.014560185 | L24: 0.0025347222 | M24: 13.449921 | N24: 0.0030979117
A25: 17 | B25: 757 | C25: Dauphine LE BOUCQ DE BEAUDIGNIES | D25: F | E25: 1900 | G25: VENDOME TRIATHLON | H25: 2014 | I25: 0.60226852 | J25: 0.61697917 | K25: 0.014710648 | L25: 0.0026851852 | M25: 13.312352 | N25: 0.0031299251
A26: 18 | B26: 773 | C26: Louis DUBREUIL | D26: M | E26: 1900 | G26: VENDOME TRIATHLON | H26: 2013 | I26: 0.59671296 | J26: 0.61217593 | K26: 0.015462963 | L26: 0.0034375 | M26: 12.664671 | N26: 0.0032899921
A27: 19 | B27: 774 | C27: Malo BONVARLET | D27: M | E27: 1900 | G27: TRIATHLON ACADEMY 28 | H27: 2014 | I27: 0.59671296 | J27: 0.61255787 | K27: 0.015844907 | L27: 0.0038194444 | M27: 12.359386 | N27: 0.0033712569
... A35: 27 | B35: 754 | C35: Assia RAMDHANE | D35: F | E35: 1900 | G35: TRIATHLON ACADEMY 28 | H35: 2014 | I35: 0.60226852 | J35: 0.62350694 | K35: 0.021238426 | L35: 0.009212963 | M35: 9.2207084 | N35: 0.004518814

Sheet Minimes
E1: =[2]Paramètres!D2 -> Triathlon Chartres - Minimes MF
J2: =IFERROR(IF(VLOOKUP($B$9,[2]Paramètres!$B$10:$N$999,3,FALSE)="","",VLOOKUP($B$9,[2]Paramètres!$B$10:$N$999,3,FALSE)),"")
A3: =IF([2]Paramètres!L2="Autre","",[2]Paramètres!L2) -> Triathlon | H3: =IFERROR(IF(VLOOKUP($B$10,[2]Paramètres!$B$10:$N$999,3,FALSE)="","",VLOOKUP($B$10,[2]Paramètres!$B$10:$N$999,3,FALSE)),"")
A4: Catégorie : | D4: =IFERROR(IF([2]Paramètres!P6="OUI",[2]Classements!C4,IF(VLOOKUP(C4,[2]Données!$K$3:$L$24,2,FALSE)="","",VLOOKUP(C4,[2]Données!$K$3:$L$24,2,FALSE))),"") | L4: =IFERROR(IF(VLOOKUP($B$11,[2]Paramètres!$B$10:$N$999,3,FALSE)="","",VLOOKUP($B$11,[2]Paramètres!$B$10:$N$999,3,FALSE)),"")
A5: Sexe : | C5: MIXTE | D5: =IFERROR(IF(VLOOKUP(C5,[2]Données!$B$6:$C$8,2,FALSE)="","",VLOOKUP(C5,[2]Données!$B$6:$C$8,2,FALSE)),"")
A8: CLT. | B8: DOS. | C8: NOM Prénom | D8: SEX. | E8: ANNEE | F8: CAT. | G8: CLUB | H8: CLASSE | I8: DEPART | J8: ARRIVEE | K8: TEMPS | L8: ECART | M8: km/h | N8: min/km
A9: =IFERROR(IF(ROW()-8>[2]Calcul!$A$1,"",ROW()-8),"") -> 1 | B9: =IFERROR(IF(A9="","",IF(VLOOKUP(A9,[2]Calcul!$B$2:$R$1000,6,FALSE)="","",VLOOKUP(A9,[2]Calcul!$B$2:$R$1000,6,FALSE))),"") -> 834 | C9: =IFERROR(IF(A9="","",IF(VLOOKUP(A9,[2]Calcul!$B$2:$R$1000,7,FALSE)="","",VLOOKUP(A9,[2]Calcul!$B$2:$R$1000,7,FALSE))),"") -> Hippolyte BIGOT | D9: =IFERROR(IF(A9="","",IF(VLOOKUP(A9,[2]Calcul!$B$2:$R$1000,8,FALSE)="","",VLOOKUP(A9,[2]Calcul!$B$2:$R$1000,8,FALSE))),"") -> M | E9: =IFERROR(IF(A9="","",IF(VLOOKUP(A9,[2]Calcul!$B$2:$R$1000,10,FALSE)="","",VLOOKUP(A9,[2]Calcul!$B$2:$R$1000,10,FALSE))),"") -> 1900 | F9: =IFERROR(IF(A9="","",IF(VLOOKUP(A9,[2]Calcul!$B$2:$R$1000,11,FALSE)="","",VLOOKUP(A9,[2]Calcul!$B$2:$R$1000,11,FALSE))),"") | G9: =IFERROR(IF(VLOOKUP(B9,[2]Paramètres!$B$10:$N$999,6,FALSE)="","",VLOOKUP(B9,[2]Paramètres!$B$10:$N$999,6,FALSE)),"") -> TRIATHLON ACADEMY 28 | H9: =IFERROR(IF(VLOOKUP(B9,[2]Paramètres!$B$10:$N$999,7,FALSE)="","",VLOOKUP(B9,[2]Paramètres!$B$10:$N$999,7,FALSE)),"") -> 2012 | I9: =IFERROR(IF(A9="","",IF(VLOOKUP(A9,[2]Calcul!$B$2:$R$1000,12,FALSE)="","",VLOOKUP(A9,[2]Calcul!$B$2:$R$1000,12,FALSE))),"") -> 0.62320602 | J9: =IFERROR(IF(A9="","",IF(VLOOKUP(A9,[2]Calcul!$B$2:$R$1000,13,FALSE)="","",VLOOKUP(A9,[2]Calcul!$B$2:$R$1000,13,FALSE))),"") -> 0.63753472 | K9: =IFERROR(IF(A9="","",IF(VLOOKUP(A9,[2]Calcul!$B$2:$R$1000,14,FALSE)="","",VLOOKUP(A9,[2]Calcul!$B$2:$R$1000,14,FALSE))),"") -> 0.014328704 | L9: =IFERROR(IF(A9="","",K9-$K$9),"") -> 0 | M9: =IFERROR(IF(A9="","",IF(VLOOKUP(A9,[2]Calcul!$B$2:$R$1000,16,FALSE)="","",VLOOKUP(A9,[2]Calcul!$B$2:$R$1000,16,FALSE))),"") -> 18.174475 | N9: =IFERROR(IF(A9="","",IF(VLOOKUP(A9,[2]Calcul!$B$2:$R$1000,17,FALSE)="","",VLOOKUP(A9,[2]Calcul!$B$2:$R$1000,17,FALSE))),"") -> 0.0022925926
A10: =IFERROR(IF(ROW()-8>[2]Calcul!$A$1,"",ROW()-8),"") -> 2 | B10: =IFERROR(IF(A10="","",IF(VLOOKUP(A10,[2]Calcul!$B$2:$R$1000,6,FALSE)="","",VLOOKUP(A10,[2]Calcul!$B$2:$R$1000,6,FALSE))),"") -> 829 | C10: =IFERROR(IF(A10="","",IF(VLOOKUP(A10,[2]Calcul!$B$2:$R$1000,7,FALSE)="","",VLOOKUP(A10,[2]Calcul!$B$2:$R$1000,7,FALSE))),"") -> Basile LELARGE | D10: =IFERROR(IF(A10="","",IF(VLOOKUP(A10,[2]Calcul!$B$2:$R$1000,8,FALSE)="","",VLOOKUP(A10,[2]Calcul!$B$2:$R$1000,8,FALSE))),"") -> M | E10: =IFERROR(IF(A10="","",IF(VLOOKUP(A10,[2]Calcul!$B$2:$R$1000,10,FALSE)="","",VLOOKUP(A10,[2]Calcul!$B$2:$R$1000,10,FALSE))),"") -> 1900 | F10: =IFERROR(IF(A10="","",IF(VLOOKUP(A10,[2]Calcul!$B$2:$R$1000,11,FALSE)="","",VLOOKUP(A10,[2]Calcul!$B$2:$R$1000,11,FALSE))),"") | G10: =IFERROR(IF(VLOOKUP(B10,[2]Paramètres!$B$10:$N$999,6,FALSE)="","",VLOOKUP(B10,[2]Paramètres!$B$10:$N$999,6,FALSE)),"") -> VENDOME TRIATHLON | H10: =IFERROR(IF(VLOOKUP(B10,[2]Paramètres!$B$10:$N$999,7,FALSE)="","",VLOOKUP(B10,[2]Paramètres!$B$10:$N$999,7,FALSE)),"") -> 2011 | I10: =IFERROR(IF(A10="","",IF(VLOOKUP(A10,[2]Calcul!$B$2:$R$1000,12,FALSE)="","",VLOOKUP(A10,[2]Calcul!$B$2:$R$1000,12,FALSE))),"") -> 0.62320602 | J10: =IFERROR(IF(A10="","",IF(VLOOKUP(A10,[2]Calcul!$B$2:$R$1000,13,FALSE)="","",VLOOKUP(A10,[2]Calcul!$B$2:$R$1000,13,FALSE))),"") -> 0.63762731 | K10: =IFERROR(IF(A10="","",IF(VLOOKUP(A10,[2]Calcul!$B$2:$R$1000,14,FALSE)="","",VLOOKUP(A10,[2]Calcul!$B$2:$R$1000,14,FALSE))),"") -> 0.014421296 | L10: =IFERROR(IF(A10="","",K10-$K$9),"") -> 9.2592593e-05 | M10: =IFERROR(IF(A10="","",IF(VLOOKUP(A10,[2]Calcul!$B$2:$R$1000,16,FALSE)="","",VLOOKUP(A10,[2]Calcul!$B$2:$R$1000,16,FALSE))),"") -> 18.057785 | N10: =IFERROR(IF(A10="","",IF(VLOOKUP(A10,[2]Calcul!$B$2:$R$1000,17,FALSE)="","",VLOOKUP(A10,[2]Calcul!$B$2:$R$1000,17,FALSE))),"") -> 0.0023074074
A11: =IFERROR(IF(ROW()-8>[2]Calcul!$A$1,"",ROW()-8),"") -> 3 | B11: =IFERROR(IF(A11="","",IF(VLOOKUP(A11,[2]Calcul!$B$2:$R$1000,6,FALSE)="","",VLOOKUP(A11,[2]Calcul!$B$2:$R$1000,6,FALSE))),"") -> 826 | C11: =IFERROR(IF(A11="","",IF(VLOOKUP(A11,[2]Calcul!$B$2:$R$1000,7,FALSE)="","",VLOOKUP(A11,[2]Calcul!$B$2:$R$1000,7,FALSE))),"") -> Antonin LEROY | D11: =IFERROR(IF(A11="","",IF(VLOOKUP(A11,[2]Calcul!$B$2:$R$1000,8,FALSE)="","",VLOOKUP(A11,[2]Calcul!$B$2:$R$1000,8,FALSE))),"") -> M | E11: =IFERROR(IF(A11="","",IF(VLOOKUP(A11,[2]Calcul!$B$2:$R$1000,10,FALSE)="","",VLOOKUP(A11,[2]Calcul!$B$2:$R$1000,10,FALSE))),"") -> 1900 | F11: =IFERROR(IF(A11="","",IF(VLOOKUP(A11,[2]Calcul!$B$2:$R$1000,11,FALSE)="","",VLOOKUP(A11,[2]Calcul!$B$2:$R$1000,11,FALSE))),"") | G11: =IFERROR(IF(VLOOKUP(B11,[2]Paramètres!$B$10:$N$999,6,FALSE)="","",VLOOKUP(B11,[2]Paramètres!$B$10:$N$999,6,FALSE)),"") -> C'CMTRI | H11: =IFERROR(IF(VLOOKUP(B11,[2]Paramètres!$B$10:$N$999,7,FALSE)="","",VLOOKUP(B11,[2]Paramètres!$B$10:$N$999,7,FALSE)),"") -> 2012 | I11: =IFERROR(IF(A11="","",IF(VLOOKUP(A11,[2]Calcul!$B$2:$R$1000,12,FALSE)="","",VLOOKUP(A11,[2]Calcul!$B$2:$R$1000,12,FALSE))),"") -> 0.62320602 | J11: =IFERROR(IF(A11="","",IF(VLOOKUP(A11,[2]Calcul!$B$2:$R$1000,13,FALSE)="","",VLOOKUP(A11,[2]Calcul!$B$2:$R$1000,13,FALSE))),"") -> 0.63778935 | K11: =IFERROR(IF(A11="","",IF(VLOOKUP(A11,[2]Calcul!$B$2:$R$1000,14,FALSE)="","",VLOOKUP(A11,[2]Calcul!$B$2:$R$1000,14,FALSE))),"") -> 0.014583333 | L11: =IFERROR(IF(A11="","",K11-$K$9),"") -> 0.00025462963 | M11: =IFERROR(IF(A11="","",IF(VLOOKUP(A11,[2]Calcul!$B$2:$R$1000,16,FALSE)="","",VLOOKUP(A11,[2]Calcul!$B$2:$R$1000,16,FALSE))),"") -> 17.857143 | N11: =IFERROR(IF(A11="","",IF(VLOOKUP(A11,[2]Calcul!$B$2:$R$1000,17,FALSE)="","",VLOOKUP(A11,[2]Calcul!$B$2:$R$1000,17,FALSE))),"") -> 0.0023333333
A12: =IFERROR(IF(ROW()-8>[2]Calcul!$A$1,"",ROW()-8),"") -> 4 | B12: =IFERROR(IF(A12="","",IF(VLOOKUP(A12,[2]Calcul!$B$2:$R$1000,6,FALSE)="","",VLOOKUP(A12,[2]Calcul!$B$2:$R$1000,6,FALSE))),"") -> 827 | C12: =IFERROR(IF(A12="","",IF(VLOOKUP(A12,[2]Calcul!$B$2:$R$1000,7,FALSE)="","",VLOOKUP(A12,[2]Calcul!$B$2:$R$1000,7,FALSE))),"") -> Axel PAIMPARAY | D12: =IFERROR(IF(A12="","",IF(VLOOKUP(A12,[2]Calcul!$B$2:$R$1000,8,FALSE)="","",VLOOKUP(A12,[2]Calcul!$B$2:$R$1000,8,FALSE))),"") -> M | E12: =IFERROR(IF(A12="","",IF(VLOOKUP(A12,[2]Calcul!$B$2:$R$1000,10,FALSE)="","",VLOOKUP(A12,[2]Calcul!$B$2:$R$1000,10,FALSE))),"") -> 1900 | F12: =IFERROR(IF(A12="","",IF(VLOOKUP(A12,[2]Calcul!$B$2:$R$1000,11,FALSE)="","",VLOOKUP(A12,[2]Calcul!$B$2:$R$1000,11,FALSE))),"") | G12: =IFERROR(IF(VLOOKUP(B12,[2]Paramètres!$B$10:$N$999,6,FALSE)="","",VLOOKUP(B12,[2]Paramètres!$B$10:$N$999,6,FALSE)),"") -> T.C. JOUE LES TOURS | H12: =IFERROR(IF(VLOOKUP(B12,[2]Paramètres!$B$10:$N$999,7,FALSE)="","",VLOOKUP(B12,[2]Paramètres!$B$10:$N$999,7,FALSE)),"") -> 2011 | I12: =IFERROR(IF(A12="","",IF(VLOOKUP(A12,[2]Calcul!$B$2:$R$1000,12,FALSE)="","",VLOOKUP(A12,[2]Calcul!$B$2:$R$1000,12,FALSE))),"") -> 0.62320602 | J12: =IFERROR(IF(A12="","",IF(VLOOKUP(A12,[2]Calcul!$B$2:$R$1000,13,FALSE)="","",VLOOKUP(A12,[2]Calcul!$B$2:$R$1000,13,FALSE))),"") -> 0.63791667 | K12: =IFERROR(IF(A12="","",IF(VLOOKUP(A12,[2]Calcul!$B$2:$R$1000,14,FALSE)="","",VLOOKUP(A12,[2]Calcul!$B$2:$R$1000,14,FALSE))),"") -> 0.014710648 | L12: =IFERROR(IF(A12="","",K12-$K$9),"") -> 0.00038194444 | M12: =IFERROR(IF(A12="","",IF(VLOOKUP(A12,[2]Calcul!$B$2:$R$1000,16,FALSE)="","",VLOOKUP(A12,[2]Calcul!$B$2:$R$1000,16,FALSE))),"") -> 17.702596 | N12: =IFERROR(IF(A12="","",IF(VLOOKUP(A12,[2]Calcul!$B$2:$R$1000,17,FALSE)="","",VLOOKUP(A12,[2]Calcul!$B$2:$R$1000,17,FALSE))),"") -> 0.0023537037
A13: =IFERROR(IF(ROW()-8>[2]Calcul!$A$1,"",ROW()-8),"") -> 5 | B13: =IFERROR(IF(A13="","",IF(VLOOKUP(A13,[2]Calcul!$B$2:$R$1000,6,FALSE)="","",VLOOKUP(A13,[2]Calcul!$B$2:$R$1000,6,FALSE))),"") -> 824 | C13: =IFERROR(IF(A13="","",IF(VLOOKUP(A13,[2]Calcul!$B$2:$R$1000,7,FALSE)="","",VLOOKUP(A13,[2]Calcul!$B$2:$R$1000,7,FALSE))),"") -> Amaury TERNISIEN | D13: =IFERROR(IF(A13="","",IF(VLOOKUP(A13,[2]Calcul!$B$2:$R$1000,8,FALSE)="","",VLOOKUP(A13,[2]Calcul!$B$2:$R$1000,8,FALSE))),"") -> M | E13: =IFERROR(IF(A13="","",IF(VLOOKUP(A13,[2]Calcul!$B$2:$R$1000,10,FALSE)="","",VLOOKUP(A13,[2]Calcul!$B$2:$R$1000,10,FALSE))),"") -> 1900 | F13: =IFERROR(IF(A13="","",IF(VLOOKUP(A13,[2]Calcul!$B$2:$R$1000,11,FALSE)="","",VLOOKUP(A13,[2]Calcul!$B$2:$R$1000,11,FALSE))),"") | G13: =IFERROR(IF(VLOOKUP(B13,[2]Paramètres!$B$10:$N$999,6,FALSE)="","",VLOOKUP(B13,[2]Paramètres!$B$10:$N$999,6,FALSE)),"") -> TRIATHLON ACADEMY 28 | H13: =IFERROR(IF(VLOOKUP(B13,[2]Paramètres!$B$10:$N$999,7,FALSE)="","",VLOOKUP(B13,[2]Paramètres!$B$10:$N$999,7,FALSE)),"") -> 2012 | I13: =IFERROR(IF(A13="","",IF(VLOOKUP(A13,[2]Calcul!$B$2:$R$1000,12,FALSE)="","",VLOOKUP(A13,[2]Calcul!$B$2:$R$1000,12,FALSE))),"") -> 0.62320602 | J13: =IFERROR(IF(A13="","",IF(VLOOKUP(A13,[2]Calcul!$B$2:$R$1000,13,FALSE)="","",VLOOKUP(A13,[2]Calcul!$B$2:$R$1000,13,FALSE))),"") -> 0.63822917 | K13: =IFERROR(IF(A13="","",IF(VLOOKUP(A13,[2]Calcul!$B$2:$R$1000,14,FALSE)="","",VLOOKUP(A13,[2]Calcul!$B$2:$R$1000,14,FALSE))),"") -> 0.015023148 | L13: =IFERROR(IF(A13="","",K13-$K$9),"") -> 0.00069444444 | M13: =IFERROR(IF(A13="","",IF(VLOOKUP(A13,[2]Calcul!$B$2:$R$1000,16,FALSE)="","",VLOOKUP(A13,[2]Calcul!$B$2:$R$1000,16,FALSE))),"") -> 17.334361 | N13: =IFERROR(IF(A13="","",IF(VLOOKUP(A13,[2]Calcul!$B$2:$R$1000,17,FALSE)="","",VLOOKUP(A13,[2]Calcul!$B$2:$R$1000,17,FALSE))),"") -> 0.0024037037
A14: =IFERROR(IF(ROW()-8>[2]Calcul!$A$1,"",ROW()-8),"") -> 6 | B14: =IFERROR(IF(A14="","",IF(VLOOKUP(A14,[2]Calcul!$B$2:$R$1000,6,FALSE)="","",VLOOKUP(A14,[2]Calcul!$B$2:$R$1000,6,FALSE))),"") -> 839 | C14: =IFERROR(IF(A14="","",IF(VLOOKUP(A14,[2]Calcul!$B$2:$R$1000,7,FALSE)="","",VLOOKUP(A14,[2]Calcul!$B$2:$R$1000,7,FALSE))),"") -> Nathan DALAIGRE | D14: =IFERROR(IF(A14="","",IF(VLOOKUP(A14,[2]Calcul!$B$2:$R$1000,8,FALSE)="","",VLOOKUP(A14,[2]Calcul!$B$2:$R$1000,8,FALSE))),"") -> M | E14: =IFERROR(IF(A14="","",IF(VLOOKUP(A14,[2]Calcul!$B$2:$R$1000,10,FALSE)="","",VLOOKUP(A14,[2]Calcul!$B$2:$R$1000,10,FALSE))),"") -> 1900 | F14: =IFERROR(IF(A14="","",IF(VLOOKUP(A14,[2]Calcul!$B$2:$R$1000,11,FALSE)="","",VLOOKUP(A14,[2]Calcul!$B$2:$R$1000,11,FALSE))),"") | G14: =IFERROR(IF(VLOOKUP(B14,[2]Paramètres!$B$10:$N$999,6,FALSE)="","",VLOOKUP(B14,[2]Paramètres!$B$10:$N$999,6,FALSE)),"") -> SAINT LAURENT NOUAN TRIATHLON | H14: =IFERROR(IF(VLOOKUP(B14,[2]Paramètres!$B$10:$N$999,7,FALSE)="","",VLOOKUP(B14,[2]Paramètres!$B$10:$N$999,7,FALSE)),"") -> 2011 | I14: =IFERROR(IF(A14="","",IF(VLOOKUP(A14,[2]Calcul!$B$2:$R$1000,12,FALSE)="","",VLOOKUP(A14,[2]Calcul!$B$2:$R$1000,12,FALSE))),"") -> 0.62320602 | J14: =IFERROR(IF(A14="","",IF(VLOOKUP(A14,[2]Calcul!$B$2:$R$1000,13,FALSE)="","",VLOOKUP(A14,[2]Calcul!$B$2:$R$1000,13,FALSE))),"") -> 0.63847222 | K14: =IFERROR(IF(A14="","",IF(VLOOKUP(A14,[2]Calcul!$B$2:$R$1000,14,FALSE)="","",VLOOKUP(A14,[2]Calcul!$B$2:$R$1000,14,FALSE))),"") -> 0.015266204 | L14: =IFERROR(IF(A14="","",K14-$K$9),"") -> 0.0009375 | M14: =IFERROR(IF(A14="","",IF(VLOOKUP(A14,[2]Calcul!$B$2:$R$1000,16,FALSE)="","",VLOOKUP(A14,[2]Calcul!$B$2:$R$1000,16,FALSE))),"") -> 17.058378 | N14: =IFERROR(IF(A14="","",IF(VLOOKUP(A14,[2]Calcul!$B$2:$R$1000,17,FALSE)="","",VLOOKUP(A14,[2]Calcul!$B$2:$R$1000,17,FALSE))),"") -> 0.0024425926
A15: =IFERROR(IF(ROW()-8>[2]Calcul!$A$1,"",ROW()-8),"") -> 7 | B15: =IFERROR(IF(A15="","",IF(VLOOKUP(A15,[2]Calcul!$B$2:$R$1000,6,FALSE)="","",VLOOKUP(A15,[2]Calcul!$B$2:$R$1000,6,FALSE))),"") -> 828 | C15: =IFERROR(IF(A15="","",IF(VLOOKUP(A15,[2]Calcul!$B$2:$R$1000,7,FALSE)="","",VLOOKUP(A15,[2]Calcul!$B$2:$R$1000,7,FALSE))),"") -> Baptiste LEVALLOIS | D15: =IFERROR(IF(A15="","",IF(VLOOKUP(A15,[2]Calcul!$B$2:$R$1000,8,FALSE)="","",VLOOKUP(A15,[2]Calcul!$B$2:$R$1000,8,FALSE))),"") -> M | E15: =IFERROR(IF(A15="","",IF(VLOOKUP(A15,[2]Calcul!$B$2:$R$1000,10,FALSE)="","",VLOOKUP(A15,[2]Calcul!$B$2:$R$1000,10,FALSE))),"") -> 1900 | F15: =IFERROR(IF(A15="","",IF(VLOOKUP(A15,[2]Calcul!$B$2:$R$1000,11,FALSE)="","",VLOOKUP(A15,[2]Calcul!$B$2:$R$1000,11,FALSE))),"") | G15: =IFERROR(IF(VLOOKUP(B15,[2]Paramètres!$B$10:$N$999,6,FALSE)="","",VLOOKUP(B15,[2]Paramètres!$B$10:$N$999,6,FALSE)),"") -> C'CMTRI | H15: =IFERROR(IF(VLOOKUP(B15,[2]Paramètres!$B$10:$N$999,7,FALSE)="","",VLOOKUP(B15,[2]Paramètres!$B$10:$N$999,7,FALSE)),"") -> 2012 | I15: =IFERROR(IF(A15="","",IF(VLOOKUP(A15,[2]Calcul!$B$2:$R$1000,12,FALSE)="","",VLOOKUP(A15,[2]Calcul!$B$2:$R$1000,12,FALSE))),"") -> 0.62320602 | J15: =IFERROR(IF(A15="","",IF(VLOOKUP(A15,[2]Calcul!$B$2:$R$1000,13,FALSE)="","",VLOOKUP(A15,[2]Calcul!$B$2:$R$1000,13,FALSE))),"") -> 0.6384838 | K15: =IFERROR(IF(A15="","",IF(VLOOKUP(A15,[2]Calcul!$B$2:$R$1000,14,FALSE)="","",VLOOKUP(A15,[2]Calcul!$B$2:$R$1000,14,FALSE))),"") -> 0.015277778 | L15: =IFERROR(IF(A15="","",K15-$K$9),"") -> 0.00094907407 | M15: =IFERROR(IF(A15="","",IF(VLOOKUP(A15,[2]Calcul!$B$2:$R$1000,16,FALSE)="","",VLOOKUP(A15,[2]Calcul!$B$2:$R$1000,16,FALSE))),"") -> 17.045455 | N15: =IFERROR(IF(A15="","",IF(VLOOKUP(A15,[2]Calcul!$B$2:$R$1000,17,FALSE)="","",VLOOKUP(A15,[2]Calcul!$B$2:$R$1000,17,FALSE))),"") -> 0.0024444444
A16: =IFERROR(IF(ROW()-8>[2]Calcul!$A$1,"",ROW()-8),"") -> 8 | B16: =IFERROR(IF(A16="","",IF(VLOOKUP(A16,[2]Calcul!$B$2:$R$1000,6,FALSE)="","",VLOOKUP(A16,[2]Calcul!$B$2:$R$1000,6,FALSE))),"") -> 830 | C16: =IFERROR(IF(A16="","",IF(VLOOKUP(A16,[2]Calcul!$B$2:$R$1000,7,FALSE)="","",VLOOKUP(A16,[2]Calcul!$B$2:$R$1000,7,FALSE))),"") -> Calistin RIVIERRE | D16: =IFERROR(IF(A16="","",IF(VLOOKUP(A16,[2]Calcul!$B$2:$R$1000,8,FALSE)="","",VLOOKUP(A16,[2]Calcul!$B$2:$R$1000,8,FALSE))),"") -> M | E16: =IFERROR(IF(A16="","",IF(VLOOKUP(A16,[2]Calcul!$B$2:$R$1000,10,FALSE)="","",VLOOKUP(A16,[2]Calcul!$B$2:$R$1000,10,FALSE))),"") -> 1900 | F16: =IFERROR(IF(A16="","",IF(VLOOKUP(A16,[2]Calcul!$B$2:$R$1000,11,FALSE)="","",VLOOKUP(A16,[2]Calcul!$B$2:$R$1000,11,FALSE))),"") | G16: =IFERROR(IF(VLOOKUP(B16,[2]Paramètres!$B$10:$N$999,6,FALSE)="","",VLOOKUP(B16,[2]Paramètres!$B$10:$N$999,6,FALSE)),"") -> TRIATHLON ACADEMY 28 | H16: =IFERROR(IF(VLOOKUP(B16,[2]Paramètres!$B$10:$N$999,7,FALSE)="","",VLOOKUP(B16,[2]Paramètres!$B$10:$N$999,7,FALSE)),"") -> 2012 | I16: =IFERROR(IF(A16="","",IF(VLOOKUP(A16,[2]Calcul!$B$2:$R$1000,12,FALSE)="","",VLOOKUP(A16,[2]Calcul!$B$2:$R$1000,12,FALSE))),"") -> 0.62320602 | J16: =IFERROR(IF(A16="","",IF(VLOOKUP(A16,[2]Calcul!$B$2:$R$1000,13,FALSE)="","",VLOOKUP(A16,[2]Calcul!$B$2:$R$1000,13,FALSE))),"") -> 0.63871528 | K16: =IFERROR(IF(A16="","",IF(VLOOKUP(A16,[2]Calcul!$B$2:$R$1000,14,FALSE)="","",VLOOKUP(A16,[2]Calcul!$B$2:$R$1000,14,FALSE))),"") -> 0.015509259 | L16: =IFERROR(IF(A16="","",K16-$K$9),"") -> 0.0011805556 | M16: =IFERROR(IF(A16="","",IF(VLOOKUP(A16,[2]Calcul!$B$2:$R$1000,16,FALSE)="","",VLOOKUP(A16,[2]Calcul!$B$2:$R$1000,16,FALSE))),"") -> 16.791045 | N16: =IFERROR(IF(A16="","",IF(VLOOKUP(A16,[2]Calcul!$B$2:$R$1000,17,FALSE)="","",VLOOKUP(A16,[2]Calcul!$B$2:$R$1000,17,FALSE))),"") -> 0.0024814815
A17: =IFERROR(IF(ROW()-8>[2]Calcul!$A$1,"",ROW()-8),"") -> 9 | B17: =IFERROR(IF(A17="","",IF(VLOOKUP(A17,[2]Calcul!$B$2:$R$1000,6,FALSE)="","",VLOOKUP(A17,[2]Calcul!$B$2:$R$1000,6,FALSE))),"") -> 840 | C17: =IFERROR(IF(A17="","",IF(VLOOKUP(A17,[2]Calcul!$B$2:$R$1000,7,FALSE)="","",VLOOKUP(A17,[2]Calcul!$B$2:$R$1000,7,FALSE))),"") -> Nathan JOUCQ | D17: =IFERROR(IF(A17="","",IF(VLOOKUP(A17,[2]Calcul!$B$2:$R$1000,8,FALSE)="","",VLOOKUP(A17,[2]Calcul!$B$2:$R$1000,8,FALSE))),"") -> M | E17: =IFERROR(IF(A17="","",IF(VLOOKUP(A17,[2]Calcul!$B$2:$R$1000,10,FALSE)="","",VLOOKUP(A17,[2]Calcul!$B$2:$R$1000,10,FALSE))),"") -> 1900 | F17: =IFERROR(IF(A17="","",IF(VLOOKUP(A17,[2]Calcul!$B$2:$R$1000,11,FALSE)="","",VLOOKUP(A17,[2]Calcul!$B$2:$R$1000,11,FALSE))),"") | G17: =IFERROR(IF(VLOOKUP(B17,[2]Paramètres!$B$10:$N$999,6,FALSE)="","",VLOOKUP(B17,[2]Paramètres!$B$10:$N$999,6,FALSE)),"") -> T.C. JOUE LES TOURS | H17: =IFERROR(IF(VLOOKUP(B17,[2]Paramètres!$B$10:$N$999,7,FALSE)="","",VLOOKUP(B17,[2]Paramètres!$B$10:$N$999,7,FALSE)),"") -> 2011 | I17: =IFERROR(IF(A17="","",IF(VLOOKUP(A17,[2]Calcul!$B$2:$R$1000,12,FALSE)="","",VLOOKUP(A17,[2]Calcul!$B$2:$R$1000,12,FALSE))),"") -> 0.62320602 | J17: =IFERROR(IF(A17="","",IF(VLOOKUP(A17,[2]Calcul!$B$2:$R$1000,13,FALSE)="","",VLOOKUP(A17,[2]Calcul!$B$2:$R$1000,13,FALSE))),"") -> 0.6391088 | K17: =IFERROR(IF(A17="","",IF(VLOOKUP(A17,[2]Calcul!$B$2:$R$1000,14,FALSE)="","",VLOOKUP(A17,[2]Calcul!$B$2:$R$1000,14,FALSE))),"") -> 0.015902778 | L17: =IFERROR(IF(A17="","",K17-$K$9),"") -> 0.0015740741 | M17: =IFERROR(IF(A17="","",IF(VLOOKUP(A17,[2]Calcul!$B$2:$R$1000,16,FALSE)="","",VLOOKUP(A17,[2]Calcul!$B$2:$R$1000,16,FALSE))),"") -> 16.375546 | N17: =IFERROR(IF(A17="","",IF(VLOOKUP(A17,[2]Calcul!$B$2:$R$1000,17,FALSE)="","",VLOOKUP(A17,[2]Calcul!$B$2:$R$1000,17,FALSE))),"") -> 0.0025444444
A18: =IFERROR(IF(ROW()-8>[2]Calcul!$A$1,"",ROW()-8),"") -> 10 | B18: =IFERROR(IF(A18="","",IF(VLOOKUP(A18,[2]Calcul!$B$2:$R$1000,6,FALSE)="","",VLOOKUP(A18,[2]Calcul!$B$2:$R$1000,6,FALSE))),"") -> 862 | C18: =IFERROR(IF(A18="","",IF(VLOOKUP(A18,[2]Calcul!$B$2:$R$1000,7,FALSE)="","",VLOOKUP(A18,[2]Calcul!$B$2:$R$1000,7,FALSE))),"") -> Lilou CAILLE | D18: =IFERROR(IF(A18="","",IF(VLOOKUP(A18,[2]Calcul!$B$2:$R$1000,8,FALSE)="","",VLOOKUP(A18,[2]Calcul!$B$2:$R$1000,8,FALSE))),"") -> F | E18: =IFERROR(IF(A18="","",IF(VLOOKUP(A18,[2]Calcul!$B$2:$R$1000,10,FALSE)="","",VLOOKUP(A18,[2]Calcul!$B$2:$R$1000,10,FALSE))),"") -> 1900 | F18: =IFERROR(IF(A18="","",IF(VLOOKUP(A18,[2]Calcul!$B$2:$R$1000,11,FALSE)="","",VLOOKUP(A18,[2]Calcul!$B$2:$R$1000,11,FALSE))),"") | G18: =IFERROR(IF(VLOOKUP(B18,[2]Paramètres!$B$10:$N$999,6,FALSE)="","",VLOOKUP(B18,[2]Paramètres!$B$10:$N$999,6,FALSE)),"") -> T.C. JOUE LES TOURS | H18: =IFERROR(IF(VLOOKUP(B18,[2]Paramètres!$B$10:$N$999,7,FALSE)="","",VLOOKUP(B18,[2]Paramètres!$B$10:$N$999,7,FALSE)),"") -> 2012 | I18: =IFERROR(IF(A18="","",IF(VLOOKUP(A18,[2]Calcul!$B$2:$R$1000,12,FALSE)="","",VLOOKUP(A18,[2]Calcul!$B$2:$R$1000,12,FALSE))),"") -> 0.62876157 | J18: =IFERROR(IF(A18="","",IF(VLOOKUP(A18,[2]Calcul!$B$2:$R$1000,13,FALSE)="","",VLOOKUP(A18,[2]Calcul!$B$2:$R$1000,13,FALSE))),"") -> 0.64466435 | K18: =IFERROR(IF(A18="","",IF(VLOOKUP(A18,[2]Calcul!$B$2:$R$1000,14,FALSE)="","",VLOOKUP(A18,[2]Calcul!$B$2:$R$1000,14,FALSE))),"") -> 0.015902778 | L18: =IFERROR(IF(A18="","",K18-$K$9),"") -> 0.0015740741 | M18: =IFERROR(IF(A18="","",IF(VLOOKUP(A18,[2]Calcul!$B$2:$R$1000,16,FALSE)="","",VLOOKUP(A18,[2]Calcul!$B$2:$R$1000,16,FALSE))),"") -> 16.375546 | N18: =IFERROR(IF(A18="","",IF(VLOOKUP(A18,[2]Calcul!$B$2:$R$1000,17,FALSE)="","",VLOOKUP(A18,[2]Calcul!$B$2:$R$1000,17,FALSE))),"") -> 0.0025444444
A19: =IFERROR(IF(ROW()-8>[2]Calcul!$A$1,"",ROW()-8),"") -> 11 | B19: =IFERROR(IF(A19="","",IF(VLOOKUP(A19,[2]Calcul!$B$2:$R$1000,6,FALSE)="","",VLOOKUP(A19,[2]Calcul!$B$2:$R$1000,6,FALSE))),"") -> 867 | C19: =IFERROR(IF(A19="","",IF(VLOOKUP(A19,[2]Calcul!$B$2:$R$1000,7,FALSE)="","",VLOOKUP(A19,[2]Calcul!$B$2:$R$1000,7,FALSE))),"") -> Manon JOLICOEUR | D19: =IFERROR(IF(A19="","",IF(VLOOKUP(A19,[2]Calcul!$B$2:$R$1000,8,FALSE)="","",VLOOKUP(A19,[2]Calcul!$B$2:$R$1000,8,FALSE))),"") -> F | E19: =IFERROR(IF(A19="","",IF(VLOOKUP(A19,[2]Calcul!$B$2:$R$1000,10,FALSE)="","",VLOOKUP(A19,[2]Calcul!$B$2:$R$1000,10,FALSE))),"") -> 1900 | F19: =IFERROR(IF(A19="","",IF(VLOOKUP(A19,[2]Calcul!$B$2:$R$1000,11,FALSE)="","",VLOOKUP(A19,[2]Calcul!$B$2:$R$1000,11,FALSE))),"") | G19: =IFERROR(IF(VLOOKUP(B19,[2]Paramètres!$B$10:$N$999,6,FALSE)="","",VLOOKUP(B19,[2]Paramètres!$B$10:$N$999,6,FALSE)),"") -> C'CMTRI | H19: =IFERROR(IF(VLOOKUP(B19,[2]Paramètres!$B$10:$N$999,7,FALSE)="","",VLOOKUP(B19,[2]Paramètres!$B$10:$N$999,7,FALSE)),"") -> 2011 | I19: =IFERROR(IF(A19="","",IF(VLOOKUP(A19,[2]Calcul!$B$2:$R$1000,12,FALSE)="","",VLOOKUP(A19,[2]Calcul!$B$2:$R$1000,12,FALSE))),"") -> 0.62876157 | J19: =IFERROR(IF(A19="","",IF(VLOOKUP(A19,[2]Calcul!$B$2:$R$1000,13,FALSE)="","",VLOOKUP(A19,[2]Calcul!$B$2:$R$1000,13,FALSE))),"") -> 0.64487269 | K19: =IFERROR(IF(A19="","",IF(VLOOKUP(A19,[2]Calcul!$B$2:$R$1000,14,FALSE)="","",VLOOKUP(A19,[2]Calcul!$B$2:$R$1000,14,FALSE))),"") -> 0.016111111 | L19: =IFERROR(IF(A19="","",K19-$K$9),"") -> 0.0017824074 | M19: =IFERROR(IF(A19="","",IF(VLOOKUP(A19,[2]Calcul!$B$2:$R$1000,16,FALSE)="","",VLOOKUP(A19,[2]Calcul!$B$2:$R$1000,16,FALSE))),"") -> 16.163793 | N19: =IFERROR(IF(A19="","",IF(VLOOKUP(A19,[2]Calcul!$B$2:$R$1000,17,FALSE)="","",VLOOKUP(A19,[2]Calcul!$B$2:$R$1000,17,FALSE))),"") -> 0.0025777778
A20: =IFERROR(IF(ROW()-8>[2]Calcul!$A$1,"",ROW()-8),"") -> 12 | B20: =IFERROR(IF(A20="","",IF(VLOOKUP(A20,[2]Calcul!$B$2:$R$1000,6,FALSE)="","",VLOOKUP(A20,[2]Calcul!$B$2:$R$1000,6,FALSE))),"") -> 845 | C20: =IFERROR(IF(A20="","",IF(VLOOKUP(A20,[2]Calcul!$B$2:$R$1000,7,FALSE)="","",VLOOKUP(A20,[2]Calcul!$B$2:$R$1000,7,FALSE))),"") -> Simon HÉZARD | D20: =IFERROR(IF(A20="","",IF(VLOOKUP(A20,[2]Calcul!$B$2:$R$1000,8,FALSE)="","",VLOOKUP(A20,[2]Calcul!$B$2:$R$1000,8,FALSE))),"") -> M | E20: =IFERROR(IF(A20="","",IF(VLOOKUP(A20,[2]Calcul!$B$2:$R$1000,10,FALSE)="","",VLOOKUP(A20,[2]Calcul!$B$2:$R$1000,10,FALSE))),"") -> 1900 | F20: =IFERROR(IF(A20="","",IF(VLOOKUP(A20,[2]Calcul!$B$2:$R$1000,11,FALSE)="","",VLOOKUP(A20,[2]Calcul!$B$2:$R$1000,11,FALSE))),"") | G20: =IFERROR(IF(VLOOKUP(B20,[2]Paramètres!$B$10:$N$999,6,FALSE)="","",VLOOKUP(B20,[2]Paramètres!$B$10:$N$999,6,FALSE)),"") -> ST AVERTIN | H20: =IFERROR(IF(VLOOKUP(B20,[2]Paramètres!$B$10:$N$999,7,FALSE)="","",VLOOKUP(B20,[2]Paramètres!$B$10:$N$999,7,FALSE)),"") -> 2011 | I20: =IFERROR(IF(A20="","",IF(VLOOKUP(A20,[2]Calcul!$B$2:$R$1000,12,FALSE)="","",VLOOKUP(A20,[2]Calcul!$B$2:$R$1000,12,FALSE))),"") -> 0.62320602 | J20: =IFERROR(IF(A20="","",IF(VLOOKUP(A20,[2]Calcul!$B$2:$R$1000,13,FALSE)="","",VLOOKUP(A20,[2]Calcul!$B$2:$R$1000,13,FALSE))),"") -> 0.63934028 | K20: =IFERROR(IF(A20="","",IF(VLOOKUP(A20,[2]Calcul!$B$2:$R$1000,14,FALSE)="","",VLOOKUP(A20,[2]Calcul!$B$2:$R$1000,14,FALSE))),"") -> 0.016134259 | L20: =IFERROR(IF(A20="","",K20-$K$9),"") -> 0.0018055556 | M20: =IFERROR(IF(A20="","",IF(VLOOKUP(A20,[2]Calcul!$B$2:$R$1000,16,FALSE)="","",VLOOKUP(A20,[2]Calcul!$B$2:$R$1000,16,FALSE))),"") -> 16.140603 | N20: =IFERROR(IF(A20="","",IF(VLOOKUP(A20,[2]Calcul!$B$2:$R$1000,17,FALSE)="","",VLOOKUP(A20,[2]Calcul!$B$2:$R$1000,17,FALSE))),"") -> 0.0025814815
... A51: =IFERROR(IF(ROW()-8>[2]Calcul!$A$1,"",ROW()-8),"") -> 43 | B51: =IFERROR(IF(A51="","",IF(VLOOKUP(A51,[2]Calcul!$B$2:$R$1000,6,FALSE)="","",VLOOKUP(A51,[2]Calcul!$B$2:$R$1000,6,FALSE))),"") -> 854 | C51: =IFERROR(IF(A51="","",IF(VLOOKUP(A51,[2]Calcul!$B$2:$R$1000,7,FALSE)="","",VLOOKUP(A51,[2]Calcul!$B$2:$R$1000,7,FALSE))),"") -> Célia GENETE | D51: =IFERROR(IF(A51="","",IF(VLOOKUP(A51,[2]Calcul!$B$2:$R$1000,8,FALSE)="","",VLOOKUP(A51,[2]Calcul!$B$2:$R$1000,8,FALSE))),"") -> F | E51: =IFERROR(IF(A51="","",IF(VLOOKUP(A51,[2]Calcul!$B$2:$R$1000,10,FALSE)="","",VLOOKUP(A51,[2]Calcul!$B$2:$R$1000,10,FALSE))),"") -> 1900 | F51: =IFERROR(IF(A51="","",IF(VLOOKUP(A51,[2]Calcul!$B$2:$R$1000,11,FALSE)="","",VLOOKUP(A51,[2]Calcul!$B$2:$R$1000,11,FALSE))),"") | G51: =IFERROR(IF(VLOOKUP(B51,[2]Paramètres!$B$10:$N$999,6,FALSE)="","",VLOOKUP(B51,[2]Paramètres!$B$10:$N$999,6,FALSE)),"") -> VENDOME TRIATHLON | H51: =IFERROR(IF(VLOOKUP(B51,[2]Paramètres!$B$10:$N$999,7,FALSE)="","",VLOOKUP(B51,[2]Paramètres!$B$10:$N$999,7,FALSE)),"") -> 2012 | I51: =IFERROR(IF(A51="","",IF(VLOOKUP(A51,[2]Calcul!$B$2:$R$1000,12,FALSE)="","",VLOOKUP(A51,[2]Calcul!$B$2:$R$1000,12,FALSE))),"") -> 0.62876157 | J51: =IFERROR(IF(A51="","",IF(VLOOKUP(A51,[2]Calcul!$B$2:$R$1000,13,FALSE)="","",VLOOKUP(A51,[2]Calcul!$B$2:$R$1000,13,FALSE))),"") -> 0.65524306 | K51: =IFERROR(IF(A51="","",IF(VLOOKUP(A51,[2]Calcul!$B$2:$R$1000,14,FALSE)="","",VLOOKUP(A51,[2]Calcul!$B$2:$R$1000,14,FALSE))),"") -> 0.026481481 | L51: =IFERROR(IF(A51="","",K51-$K$9),"") -> 0.012152778 | M51: =IFERROR(IF(A51="","",IF(VLOOKUP(A51,[2]Calcul!$B$2:$R$1000,16,FALSE)="","",VLOOKUP(A51,[2]Calcul!$B$2:$R$1000,16,FALSE))),"") -> 9.8339161 | N51: =IFERROR(IF(A51="","",IF(VLOOKUP(A51,[2]Calcul!$B$2:$R$1000,17,FALSE)="","",VLOOKUP(A51,[2]Calcul!$B$2:$R$1000,17,FALSE))),"") -> 0.004237037

Sheet Cadet Juniors
E1: Triathlon Chartres - Cad Jun MF
A3: Triathlon
A4: Catégorie :
A5: Sexe : | C5: MIXTE
A8: CLT. | B8: DOS. | C8: NOM Prénom | D8: SEX. | E8: ANNEE | F8: CAT. | G8: CLUB | H8: CLASSE | I8: DEPART | J8: ARRIVEE | K8: TEMPS | L8: ECART | M8: km/h | N8: min/km
A9: 1 | B9: 878 | C9: Manon SOURY | D9: F | E9: 1900 | G9: VENDOME TRIATHLON | H9: 2010 | I9: 0.65133102 | J9: 0.66695602 | K9: 0.015625 | L9: 0 | M9: 20.8 | N9: 0.0020032051
A10: 2 | B10: 885 | C10: Albert SAVORNIN | D10: M | E10: 1900 | G10: VENDOME TRIATHLON | H10: 2010 | I10: 0.6478588 | J10: 0.66605324 | K10: 0.018194444 | L10: 0.0025694444 | M10: 17.862595 | N10: 0.0023326211
A11: 3 | B11: 888 | C11: Martin HASLE | D11: M | E11: 1900 | G11: VENDOME TRIATHLON | H11: 2009 | I11: 0.6478588 | J11: 0.66615741 | K11: 0.018298611 | L11: 0.0026736111 | M11: 17.760911 | N11: 0.0023459758
A12: 4 | B12: 891 | C12: Tom DUBOIS | D12: M | E12: 1900 | G12: C'CMTRI | H12: 2009 | I12: 0.6478588 | J12: 0.66622685 | K12: 0.018368056 | L12: 0.0027430556 | M12: 17.693762 | N12: 0.0023548789
A13: 5 | B13: 898 | C13: Alexandre LIMPALAER Junior | D13: M | E13: 1900 | G13: TRIATHLON ACADEMY 28 | H13: 2007 | I13: 0.6478588 | J13: 0.66701389 | K13: 0.019155093 | L13: 0.0035300926 | M13: 16.966767 | N13: 0.0024557811
A14: 6 | B14: 877 | C14: Gabrielle GUILBAUD | D14: F | E14: 1900 | G14: C'CMTRI | H14: 2010 | I14: 0.65133102 | J14: 0.67063657 | K14: 0.019305556 | L14: 0.0036805556 | M14: 16.834532 | N14: 0.0024750712
A15: 7 | B15: 892 | C15: Tristan DELRIEUX | D15: M | E15: 1900 | G15: C'CMTRI | H15: 2010 | I15: 0.6478588 | J15: 0.66725694 | K15: 0.019398148 | L15: 0.0037731481 | M15: 16.754177 | N15: 0.0024869421
A16: 8 | B16: 899 | C16: Simon DE GRYSE Junior | D16: M | E16: 1900 | G16: C'CHARTRES CYCLISME | H16: 2008 | I16: 0.6478588 | J16: 0.66847222 | K16: 0.020613426 | L16: 0.0049884259 | M16: 15.766423 | N16: 0.0026427469
A17: 9 | B17: 887 | C17: Maël ROCHERIEUX | D17: M | E17: 1900 | G17: TRIATHLON ACADEMY 28 | H17: 2010 | I17: 0.6478588 | J17: 0.66866898 | K17: 0.020810185 | L17: 0.0051851852 | M17: 15.617353 | N17: 0.0026679725
A18: 10 | B18: 886 | C18: Eliott BOUCHER | D18: M | E18: 1900 | G18: VENDOME TRIATHLON | H18: 2009 | I18: 0.6478588 | J18: 0.66868056 | K18: 0.020821759 | L18: 0.0051967593 | M18: 15.608671 | N18: 0.0026694563
A19: 11 | B19: 876 | C19: Alice TERNISIEN | D19: F | E19: 1900 | G19: TRIATHLON ACADEMY 28 | H19: 2010 | I19: 0.65133102 | J19: 0.67215278 | K19: 0.020821759 | L19: 0.0051967593 | M19: 15.608671 | N19: 0.0026694563
A20: 12 | B20: 879 | C20: Rose CALOUX | D20: F | E20: 1900 | G20: T.C. JOUE LES TOURS | H20: 2010 | I20: 0.65133102 | J20: 0.6724537 | K20: 0.021122685 | L20: 0.0054976852 | M20: 15.386301 | N20: 0.0027080366
A21: 13 | B21: 889 | C21: Thoma CREPIEUX | D21: M | E21: 1900 | G21: VENDOME TRIATHLON | H21: 2009 | I21: 0.6478588 | J21: 0.67005787 | K21: 0.022199074 | L21: 0.0065740741 | M21: 14.64025 | N21: 0.0028460351
A22: 14 | B22: 890 | C22: Tom HERISSON | D22: M | E22: 1900 | G22: C'CMTRI | H22: 2010 | I22: 0.6478588 | J22: 0.67168981 | K22: 0.023831019 | L22: 0.0082060185 | M22: 13.637688 | N22: 0.0030552588
